BEGIN:VCALENDAR
VERSION:2.0
PRODID:-//dsnmc.org//NONSGML kigkonsult.se iCalcreator 2.30.10//
CALSCALE:GREGORIAN
METHOD:PUBLISH
UID:f2db6e31-2d3a-4052-ba3a-fa819697b1d1
X-WR-CALDESC:Teens and young adults - bring your own picnic dinner to Locus
 t Grove Nature Center.  We will hang out\, play games\, build a campfire\,
  and make s'mores.\n\nWe welcome parents or other support personnel to sta
 y with teens or adults who need supervision. DSNMC staff and volunteers wi
 ll not be available to supervise individual participants. The musical perf
 ormance will end at 8:30 pm.
X-WR-RELCALID:ad684f91fc83ade2839d574d14256eaf
X-WR-TIMEZONE:America/New_York
BEGIN:VTIMEZONE
TZID:America/New_York
BEGIN:STANDARD
TZNAME:EST
DTSTART:20221106T020000
TZOFFSETFROM:-0400
TZOFFSETTO:-0500
RDATE:20231105T020000
RDATE:20241103T020000
END:STANDARD
BEGIN:DAYLIGHT
TZNAME:EDT
DTSTART:20230312T020000
TZOFFSETFROM:-0500
TZOFFSETTO:-0400
RDATE:20240310T020000
END:DAYLIGHT
END:VTIMEZONE
BEGIN:VEVENT
UID:f6458971-1165-4620-b37e-8bf813f66aee
DTSTAMP:20260420T104701Z
DESCRIPTION:Teens and young adults - bring your own picnic dinner to Locust
  Grove Nature Center.  We will hang out\, play games\, build a campfire\, 
 and make s'mores.\n\nWe welcome parents or other support personnel to stay
  with teens or adults who need supervision. DSNMC staff and volunteers wil
 l not be available to supervise individual participants. The musical perfo
 rmance will end at 8:30 pm.
DTSTART;TZID=America/New_York:20230826T160000
DTEND;TZID=America/New_York:20230826T190000
LOCATION:Locust Grove Nature Center\, 7777 Democracy Boulevard\, Bethesda\,
  MD 20817 US
SUMMARY:Teen/Young Adult Campfire
END:VEVENT
END:VCALENDAR
