BEGIN:VCALENDAR
VERSION:2.0
PRODID:-//dsnmc.org//NONSGML kigkonsult.se iCalcreator 2.30.10//
CALSCALE:GREGORIAN
METHOD:PUBLISH
UID:5559e855-8c40-4325-9e5a-6de5b364f230
X-WR-CALDESC:
X-WR-RELCALID:12b6847c7d9acd4633c23def2950691a
X-WR-TIMEZONE:America/New_York
BEGIN:VTIMEZONE
TZID:America/New_York
BEGIN:STANDARD
TZNAME:EST
DTSTART:20221106T020000
TZOFFSETFROM:-0400
TZOFFSETTO:-0500
RDATE:20231105T020000
RDATE:20241103T020000
END:STANDARD
BEGIN:DAYLIGHT
TZNAME:EDT
DTSTART:20230312T020000
TZOFFSETFROM:-0500
TZOFFSETTO:-0400
RDATE:20240310T020000
END:DAYLIGHT
END:VTIMEZONE
BEGIN:VEVENT
UID:a9abbbb1-201a-4b07-aa35-f127355932d3
DTSTAMP:20260420T095131Z
DESCRIPTION:
DTSTART;TZID=America/New_York:20230904T090000
DTEND;TZID=America/New_York:20230904T170000
LOCATION:
SUMMARY:Labor Day\, DSNMC office closed
END:VEVENT
END:VCALENDAR
