BEGIN:VCALENDAR
VERSION:2.0
PRODID:-//dsnmc.org//NONSGML kigkonsult.se iCalcreator 2.30.10//
CALSCALE:GREGORIAN
METHOD:PUBLISH
UID:198dabad-8035-4901-a8a9-40a7a1b72231
X-WR-CALDESC:Help DSNMC plan for the 2023 Step Up Walk.  If you are interes
 ted in participating on the Step UP Walk Committee\, please email Joy Stei
 n at admin@dsnmc.org to receive the zoom link.
X-WR-RELCALID:2f06db1ac472412ba5ae177aa2103669
X-WR-TIMEZONE:America/New_York
BEGIN:VTIMEZONE
TZID:America/New_York
BEGIN:STANDARD
TZNAME:EST
DTSTART:20221106T020000
TZOFFSETFROM:-0400
TZOFFSETTO:-0500
RDATE:20231105T020000
RDATE:20241103T020000
END:STANDARD
BEGIN:DAYLIGHT
TZNAME:EDT
DTSTART:20230312T020000
TZOFFSETFROM:-0500
TZOFFSETTO:-0400
RDATE:20240310T020000
RDATE:20250309T020000
END:DAYLIGHT
END:VTIMEZONE
BEGIN:VEVENT
UID:592c4af5-474a-4756-a4d7-19eb9c3b4bb6
DTSTAMP:20260420T092924Z
DESCRIPTION:Help DSNMC plan for the 2023 Step Up Walk.  If you are interest
 ed in participating on the Step UP Walk Committee\, please email Joy Stein
  at admin@dsnmc.org to receive the zoom link.
DTSTART;TZID=America/New_York:20230912T193000
DTEND;TZID=America/New_York:20230912T203000
LOCATION:
SUMMARY:Step Up Walk Committee Meeting
END:VEVENT
END:VCALENDAR
