BEGIN:VCALENDAR
VERSION:2.0
PRODID:-//dsnmc.org//NONSGML kigkonsult.se iCalcreator 2.30.10//
CALSCALE:GREGORIAN
METHOD:PUBLISH
UID:e3be6126-919f-4f3e-8687-fcf699c10761
X-WR-CALDESC:
X-WR-RELCALID:6ec4dda4c842ac0d663f1fcf4542315d
X-WR-TIMEZONE:America/New_York
BEGIN:VTIMEZONE
TZID:America/New_York
BEGIN:STANDARD
TZNAME:EST
DTSTART:20221106T020000
TZOFFSETFROM:-0400
TZOFFSETTO:-0500
RDATE:20231105T020000
RDATE:20241103T020000
END:STANDARD
BEGIN:DAYLIGHT
TZNAME:EDT
DTSTART:20230312T020000
TZOFFSETFROM:-0500
TZOFFSETTO:-0400
RDATE:20240310T020000
RDATE:20250309T020000
END:DAYLIGHT
END:VTIMEZONE
BEGIN:VEVENT
UID:dfca8c2c-599f-4db8-af3f-636da87f8fed
DTSTAMP:20260422T093946Z
DESCRIPTION:
DTSTART;TZID=America/New_York:20230915T180000
DTEND;TZID=America/New_York:20230915T233000
LOCATION:
SUMMARY:Rosh Hoshanah begins at sundown
END:VEVENT
END:VCALENDAR
