BEGIN:VCALENDAR
VERSION:2.0
PRODID:-//dsnmc.org//NONSGML kigkonsult.se iCalcreator 2.30.10//
CALSCALE:GREGORIAN
METHOD:PUBLISH
UID:f7d1d579-9083-4535-aa39-86d9796bb075
X-WR-CALDESC:Have you heard the term 'respite services' and wondered what i
 t meant?  Are you wondering if you qualify for respite services.  Jules Ab
 ate\, Respite Administrator from Respite Services of Montgomery County wil
 l provide a virtual overview of respite services.
X-WR-RELCALID:02a1042fa070467d29f95babd32be08f
X-WR-TIMEZONE:America/New_York
BEGIN:VTIMEZONE
TZID:America/New_York
BEGIN:STANDARD
TZNAME:EST
DTSTART:20221106T020000
TZOFFSETFROM:-0400
TZOFFSETTO:-0500
RDATE:20231105T020000
RDATE:20241103T020000
END:STANDARD
BEGIN:DAYLIGHT
TZNAME:EDT
DTSTART:20230312T020000
TZOFFSETFROM:-0500
TZOFFSETTO:-0400
RDATE:20240310T020000
RDATE:20250309T020000
END:DAYLIGHT
END:VTIMEZONE
BEGIN:VEVENT
UID:72c87ad1-c905-456a-842f-0b09fbd53f86
DTSTAMP:20260420T092845Z
DESCRIPTION:Have you heard the term 'respite services' and wondered what it
  meant?  Are you wondering if you qualify for respite services.  Jules Aba
 te\, Respite Administrator from Respite Services of Montgomery County will
  provide a virtual overview of respite services.
DTSTART;TZID=America/New_York:20230920T193000
DTEND;TZID=America/New_York:20230920T203000
LOCATION:
SUMMARY:Respite Presentation
END:VEVENT
END:VCALENDAR
