BEGIN:VCALENDAR
VERSION:2.0
PRODID:-//dsnmc.org//NONSGML kigkonsult.se iCalcreator 2.30.10//
CALSCALE:GREGORIAN
METHOD:PUBLISH
UID:acdf3709-db2b-4e60-bc87-03cd9f639c0c
X-WR-CALDESC:Help DSNMC plan for the 2023 Step Up Walk.  If you are interes
 ted in participating on the Step UP Walk Committee\, please email Joy Stei
 n at admin@dsnmc.org to receive the zoom link.
X-WR-RELCALID:033a42add6bff994b1c48c643377e065
X-WR-TIMEZONE:America/New_York
BEGIN:VTIMEZONE
TZID:America/New_York
BEGIN:STANDARD
TZNAME:EST
DTSTART:20221106T020000
TZOFFSETFROM:-0400
TZOFFSETTO:-0500
RDATE:20231105T020000
RDATE:20241103T020000
END:STANDARD
BEGIN:DAYLIGHT
TZNAME:EDT
DTSTART:20230312T020000
TZOFFSETFROM:-0500
TZOFFSETTO:-0400
RDATE:20240310T020000
RDATE:20250309T020000
END:DAYLIGHT
END:VTIMEZONE
BEGIN:VEVENT
UID:6df39690-fb75-48f6-9d1d-eebf2b75e5cd
DTSTAMP:20260420T092923Z
DESCRIPTION:Help DSNMC plan for the 2023 Step Up Walk.  If you are interest
 ed in participating on the Step UP Walk Committee\, please email Joy Stein
  at admin@dsnmc.org to receive the zoom link.
DTSTART;TZID=America/New_York:20230927T193000
DTEND;TZID=America/New_York:20230927T203000
LOCATION:
SUMMARY:Step Up Walk Committee Meeting
END:VEVENT
END:VCALENDAR
