BEGIN:VCALENDAR
VERSION:2.0
PRODID:-//dsnmc.org//NONSGML kigkonsult.se iCalcreator 2.30.10//
CALSCALE:GREGORIAN
METHOD:PUBLISH
UID:9d7d9c29-8490-411d-bbd9-b376dc2e85f0
X-WR-CALDESC:This event is designed for families who have a child with Down
  syndrome aged 3 or younger.\n\nWhen: Saturday\, September 30th\nTime: 10 
 am - 12 noon (feel free to arrive late and/or leave early)\nWhere: Kristi 
 Maeng's home in Silver Spring. (Address will be provided to registrants)\n
 DSNMC will be offering playgroups on a regular basis\, so if you are unabl
 e to attend this playgroup\, there will be others scheduled. If you\, or y
 our little one\, are showing any signs of illness (fever\, coughing\, exce
 ssive runny nose\, etc.) please stay home and we will see you the next tim
 e.\n\n\nThis playdate is being offered in a more intimate setting to allow
  you the opportunity to focus on your little one and chat with others and 
 is limited to ten families. If the event is sold out\, please email Joy wh
 o will add your name to a waiting list. While this event is designed for f
 amilies that have a child with Down syndrome 3 and younger\, we understand
  if older siblings (who aren't showing any signs of illness) need to atten
 d.\n\n\n¡Se ha fijado una fecha para nuestra primera cita de juego 'estilo
  hogareño'! Este evento está diseñado para familias que tienen un niño con
  síndrome de Down de 3 años o menos.\n\nCuándo: sábado 30 de septiembre\nH
 ora: 10 am - 12 mediodía (no dudes en llegar tarde y/o salir temprano)\nDó
 nde: La casa de Kristi Maeng en Silver Spring. (La dirección se proporcion
 ará a los inscritos)\nDSNMC ofrecerá grupos de juego de forma regular\, po
 r lo que si no puede asistir a este grupo de juego\, habrá otros programad
 os. Si usted o su pequeño muestran algún signo de enfermedad (fiebre\, tos
 \, secreción nasal excesiva\, etc.)\, quédese en casa y nos vemos la próxi
 ma vez.\n\nDSNMC proporcionará refrigerios y bebidas (principalmente para 
 los adultos). No dudes en traer bocadillos o una bebida para tu pequeño.\n
 La familia Maeng tiene un perro Bichon Frise (hipoalergénico) que los visi
 ta con frecuencia pero que no estará presente durante la cita de juego.\nE
 sta cita de juego se ofrece en un ambiente más íntimo para brindarle la op
 ortunidad de concentrarse en su pequeño y conversar con otros y está limit
 ada a diez familias. Si el evento está agotado\, envíe un correo electróni
 co a Joy\, quien agregará su nombre a una lista de espera. Si bien este ev
 ento está diseñado para familias que tienen un niño con síndrome de Down d
 e 3 años o menos\, entendemos si es necesario que asistan hermanos mayores
  (que no muestren ningún signo de enfermedad).\n\n
X-WR-RELCALID:aa7d8c64a6f6e521daaa055be98fecf1
X-WR-TIMEZONE:America/New_York
BEGIN:VTIMEZONE
TZID:America/New_York
BEGIN:STANDARD
TZNAME:EST
DTSTART:20221106T020000
TZOFFSETFROM:-0400
TZOFFSETTO:-0500
RDATE:20231105T020000
RDATE:20241103T020000
END:STANDARD
BEGIN:DAYLIGHT
TZNAME:EDT
DTSTART:20230312T020000
TZOFFSETFROM:-0500
TZOFFSETTO:-0400
RDATE:20240310T020000
RDATE:20250309T020000
END:DAYLIGHT
END:VTIMEZONE
BEGIN:VEVENT
UID:acdf3683-712f-43cd-b74d-0edd891aa64f
DTSTAMP:20260422T095053Z
DESCRIPTION:This event is designed for families who have a child with Down 
 syndrome aged 3 or younger.\n\nWhen: Saturday\, September 30th\nTime: 10 a
 m - 12 noon (feel free to arrive late and/or leave early)\nWhere: Kristi M
 aeng's home in Silver Spring. (Address will be provided to registrants)\nD
 SNMC will be offering playgroups on a regular basis\, so if you are unable
  to attend this playgroup\, there will be others scheduled. If you\, or yo
 ur little one\, are showing any signs of illness (fever\, coughing\, exces
 sive runny nose\, etc.) please stay home and we will see you the next time
 .\n\n\nThis playdate is being offered in a more intimate setting to allow 
 you the opportunity to focus on your little one and chat with others and i
 s limited to ten families. If the event is sold out\, please email Joy who
  will add your name to a waiting list. While this event is designed for fa
 milies that have a child with Down syndrome 3 and younger\, we understand 
 if older siblings (who aren't showing any signs of illness) need to attend
 .\n\n\n¡Se ha fijado una fecha para nuestra primera cita de juego 'estilo 
 hogareño'! Este evento está diseñado para familias que tienen un niño con 
 síndrome de Down de 3 años o menos.\n\nCuándo: sábado 30 de septiembre\nHo
 ra: 10 am - 12 mediodía (no dudes en llegar tarde y/o salir temprano)\nDón
 de: La casa de Kristi Maeng en Silver Spring. (La dirección se proporciona
 rá a los inscritos)\nDSNMC ofrecerá grupos de juego de forma regular\, por
  lo que si no puede asistir a este grupo de juego\, habrá otros programado
 s. Si usted o su pequeño muestran algún signo de enfermedad (fiebre\, tos\
 , secreción nasal excesiva\, etc.)\, quédese en casa y nos vemos la próxim
 a vez.\n\nDSNMC proporcionará refrigerios y bebidas (principalmente para l
 os adultos). No dudes en traer bocadillos o una bebida para tu pequeño.\nL
 a familia Maeng tiene un perro Bichon Frise (hipoalergénico) que los visit
 a con frecuencia pero que no estará presente durante la cita de juego.\nEs
 ta cita de juego se ofrece en un ambiente más íntimo para brindarle la opo
 rtunidad de concentrarse en su pequeño y conversar con otros y está limita
 da a diez familias. Si el evento está agotado\, envíe un correo electrónic
 o a Joy\, quien agregará su nombre a una lista de espera. Si bien este eve
 nto está diseñado para familias que tienen un niño con síndrome de Down de
  3 años o menos\, entendemos si es necesario que asistan hermanos mayores 
 (que no muestren ningún signo de enfermedad).\n\n
DTSTART;TZID=America/New_York:20230930T100000
DTEND;TZID=America/New_York:20230930T120000
LOCATION:
SUMMARY:Playgroup for Infants and Toddlers
END:VEVENT
END:VCALENDAR
