BEGIN:VCALENDAR
VERSION:2.0
PRODID:-//dsnmc.org//NONSGML kigkonsult.se iCalcreator 2.30.10//
CALSCALE:GREGORIAN
METHOD:PUBLISH
UID:68bc9ee4-0328-4b1b-b28b-eda7b0680d2b
X-WR-CALDESC:Dance the night away!\n\nAll teens and adults are invited to a
 ttend a dance party on Saturday\, September 30th from 7:30 to 9:30 pm. DSN
 MC member Anderson Jones will DJ this party and play your favorite tunes!
 \n\nTickets are $5.00 per person and cold drinks and snacks will be provid
 ed.  Please email Joy at admin@dsnmc.org if you need assistance to pay for
  this event.\n\nMetered street parking is available and there is a public 
 parking garage across the street at 51 Monroe Place.\n\nWe welcome parents
  or other support personnel to stay with teens/adults who need supervision
 . DSNMC staff and volunteers will not be available to supervise individual
  participants.
X-WR-RELCALID:9114f0765a154274d72cae4c41a306a0
X-WR-TIMEZONE:America/New_York
BEGIN:VTIMEZONE
TZID:America/New_York
BEGIN:STANDARD
TZNAME:EST
DTSTART:20221106T020000
TZOFFSETFROM:-0400
TZOFFSETTO:-0500
RDATE:20231105T020000
RDATE:20241103T020000
END:STANDARD
BEGIN:DAYLIGHT
TZNAME:EDT
DTSTART:20230312T020000
TZOFFSETFROM:-0500
TZOFFSETTO:-0400
RDATE:20240310T020000
RDATE:20250309T020000
END:DAYLIGHT
END:VTIMEZONE
BEGIN:VEVENT
UID:00127c3d-1f29-4767-b8ee-59a3cc9940d0
DTSTAMP:20260422T094819Z
DESCRIPTION:Dance the night away!\n\nAll teens and adults are invited to at
 tend a dance party on Saturday\, September 30th from 7:30 to 9:30 pm. DSNM
 C member Anderson Jones will DJ this party and play your favorite tunes!\n
 \nTickets are $5.00 per person and cold drinks and snacks will be provided
 .  Please email Joy at admin@dsnmc.org if you need assistance to pay for t
 his event.\n\nMetered street parking is available and there is a public pa
 rking garage across the street at 51 Monroe Place.\n\nWe welcome parents o
 r other support personnel to stay with teens/adults who need supervision. 
 DSNMC staff and volunteers will not be available to supervise individual p
 articipants.
DTSTART;TZID=America/New_York:20230930T193000
DTEND;TZID=America/New_York:20230930T213000
LOCATION:
SUMMARY:Teen /Adult Dance Party
END:VEVENT
END:VCALENDAR
