BEGIN:VCALENDAR
VERSION:2.0
PRODID:-//dsnmc.org//NONSGML kigkonsult.se iCalcreator 2.30.10//
CALSCALE:GREGORIAN
METHOD:PUBLISH
UID:486a0e78-d17c-48d6-8b8b-0bf4e4deea2c
X-WR-CALDESC:
X-WR-RELCALID:25f8dd84b04930414cdfb8cbdbb8b2d9
X-WR-TIMEZONE:America/New_York
BEGIN:VTIMEZONE
TZID:America/New_York
BEGIN:STANDARD
TZNAME:EST
DTSTART:20221106T020000
TZOFFSETFROM:-0400
TZOFFSETTO:-0500
RDATE:20231105T020000
RDATE:20241103T020000
END:STANDARD
BEGIN:DAYLIGHT
TZNAME:EDT
DTSTART:20230312T020000
TZOFFSETFROM:-0500
TZOFFSETTO:-0400
RDATE:20240310T020000
RDATE:20250309T020000
END:DAYLIGHT
END:VTIMEZONE
BEGIN:VEVENT
UID:44e9aad5-3d56-416d-8bec-62d0e08090cf
DTSTAMP:20260420T081250Z
DESCRIPTION:
DTSTART;TZID=America/New_York:20231009T000000
DTEND;TZID=America/New_York:20231009T233000
LOCATION:
SUMMARY:Indigenous Peoples' Day
END:VEVENT
END:VCALENDAR
