BEGIN:VCALENDAR
VERSION:2.0
PRODID:-//dsnmc.org//NONSGML kigkonsult.se iCalcreator 2.30.10//
CALSCALE:GREGORIAN
METHOD:PUBLISH
UID:ea16b979-4426-49f1-85ef-cf5f4ffdb016
X-WR-CALDESC:
X-WR-RELCALID:ad8ce09a856ae5a389b1b2abd4ddc0e0
X-WR-TIMEZONE:America/New_York
BEGIN:VTIMEZONE
TZID:America/New_York
BEGIN:STANDARD
TZNAME:EST
DTSTART:20221106T020000
TZOFFSETFROM:-0400
TZOFFSETTO:-0500
RDATE:20231105T020000
RDATE:20241103T020000
END:STANDARD
BEGIN:DAYLIGHT
TZNAME:EDT
DTSTART:20230312T020000
TZOFFSETFROM:-0500
TZOFFSETTO:-0400
RDATE:20240310T020000
RDATE:20250309T020000
END:DAYLIGHT
END:VTIMEZONE
BEGIN:VEVENT
UID:918e8f66-4866-47bd-a8d9-6e00b81e89d6
DTSTAMP:20260420T081107Z
DESCRIPTION:
DTSTART;TZID=America/New_York:20231012T193000
DTEND;TZID=America/New_York:20231012T203000
LOCATION:
SUMMARY:Ten Basic Financial Steps
END:VEVENT
END:VCALENDAR
