BEGIN:VCALENDAR
VERSION:2.0
PRODID:-//dsnmc.org//NONSGML kigkonsult.se iCalcreator 2.30.10//
CALSCALE:GREGORIAN
METHOD:PUBLISH
UID:32b3b901-cbcd-45b5-9b13-037b2a5aa44a
X-WR-CALDESC:Join your friends in person for a Positively Speaking by Art S
 tream class on Sunday\, October 15th\, from 3:00 - 4:30. The self-advocate
 s will work on speeches they will present at the Step UP for Down Syndrome
  celebration on October 21st. While the self-advocates are working on comm
 unication skills\, there will be an additional room available for parents 
 to congregate\, share resources\, and socialize.\n\n\nThis class is limite
 d to 15 participants.\n\nArt Stream requires proof of full vaccination (at
  least 2 weeks past your second dose)\, and you must wear a mask and socia
 l distance. They recommend a high filtration mask such as an N95 or KN95 m
 ask instead of a cloth mask. These are generally available for free at lib
 raries\, drug stores\, and county facilities. ArtStream staff will be mask
 ed for the duration of the class.\n\nWhen you register\, send a copy of yo
 ur vaccination card to Joy Stein at admin@dsnmc.org
X-WR-RELCALID:7b2c0592a9145e5c74b5b05e583ad3b5
X-WR-TIMEZONE:America/New_York
BEGIN:VTIMEZONE
TZID:America/New_York
BEGIN:STANDARD
TZNAME:EST
DTSTART:20221106T020000
TZOFFSETFROM:-0400
TZOFFSETTO:-0500
RDATE:20231105T020000
RDATE:20241103T020000
END:STANDARD
BEGIN:DAYLIGHT
TZNAME:EDT
DTSTART:20230312T020000
TZOFFSETFROM:-0500
TZOFFSETTO:-0400
RDATE:20240310T020000
RDATE:20250309T020000
END:DAYLIGHT
END:VTIMEZONE
BEGIN:VEVENT
UID:41ab6686-a26d-49b6-a681-1a25bd506064
DTSTAMP:20260420T081237Z
DESCRIPTION:Join your friends in person for a Positively Speaking by Art St
 ream class on Sunday\, October 15th\, from 3:00 - 4:30. The self-advocates
  will work on speeches they will present at the Step UP for Down Syndrome 
 celebration on October 21st. While the self-advocates are working on commu
 nication skills\, there will be an additional room available for parents t
 o congregate\, share resources\, and socialize.\n\n\nThis class is limited
  to 15 participants.\n\nArt Stream requires proof of full vaccination (at 
 least 2 weeks past your second dose)\, and you must wear a mask and social
  distance. They recommend a high filtration mask such as an N95 or KN95 ma
 sk instead of a cloth mask. These are generally available for free at libr
 aries\, drug stores\, and county facilities. ArtStream staff will be maske
 d for the duration of the class.\n\nWhen you register\, send a copy of you
 r vaccination card to Joy Stein at admin@dsnmc.org
DTSTART;TZID=America/New_York:20231015T150000
DTEND;TZID=America/New_York:20231015T163000
LOCATION:North  Chevy Chase Christian Church\, 8814 Kensington Parkway\, Ch
 evy Chase\, MD 20815 US
SUMMARY:ArtStream Positively Speaking Workshop
END:VEVENT
END:VCALENDAR
