BEGIN:VCALENDAR
VERSION:2.0
PRODID:-//dsnmc.org//NONSGML kigkonsult.se iCalcreator 2.30.10//
CALSCALE:GREGORIAN
METHOD:PUBLISH
UID:41e14d0b-7c7c-480b-bff7-bddd96120161
X-WR-CALDESC:
X-WR-RELCALID:352985ca7deacb77b963ce6b50332496
X-WR-TIMEZONE:America/New_York
BEGIN:VTIMEZONE
TZID:America/New_York
BEGIN:STANDARD
TZNAME:EST
DTSTART:20221106T020000
TZOFFSETFROM:-0400
TZOFFSETTO:-0500
RDATE:20231105T020000
RDATE:20241103T020000
END:STANDARD
BEGIN:DAYLIGHT
TZNAME:EDT
DTSTART:20230312T020000
TZOFFSETFROM:-0500
TZOFFSETTO:-0400
RDATE:20240310T020000
RDATE:20250309T020000
END:DAYLIGHT
END:VTIMEZONE
BEGIN:VEVENT
UID:96e04b1c-3d68-4a6c-b387-94545a834513
DTSTAMP:20260420T081424Z
DESCRIPTION:
DTSTART;TZID=America/New_York:20231016T193000
DTEND;TZID=America/New_York:20231016T213000
LOCATION:
SUMMARY:Board Meeting
END:VEVENT
END:VCALENDAR
