BEGIN:VCALENDAR
VERSION:2.0
PRODID:-//dsnmc.org//NONSGML kigkonsult.se iCalcreator 2.30.10//
CALSCALE:GREGORIAN
METHOD:PUBLISH
UID:8f5135cb-a458-4676-85ed-b1c3a7915359
X-WR-CALDESC:The DSNMC Education Committee is now meeting on the third Thur
 sday of each month from 7:15 pm-8:15\, and new members are welcome to join
  the committee.\n\nCo-chairs: \nKalani Brown (kalaniuke@hotmail.com) and C
 arrie Swann (carrie.swann@gmail.com)\n\nJoin Zoom Meeting\nhttps://us02web
 .zoom.us/j/86288520613?pwd=TmIyZ3JDcmVCRUNuanRRWWNwT2h6QT09\n\nMeeting ID:
  862 8852 0613\nPasscode: 785188\nOne tap mobile\n+13017158592
X-WR-RELCALID:ba7bc88499634a1a6a5a4ee14f46f230
X-WR-TIMEZONE:America/New_York
BEGIN:VTIMEZONE
TZID:America/New_York
BEGIN:STANDARD
TZNAME:EST
DTSTART:20221106T020000
TZOFFSETFROM:-0400
TZOFFSETTO:-0500
RDATE:20231105T020000
RDATE:20241103T020000
END:STANDARD
BEGIN:DAYLIGHT
TZNAME:EDT
DTSTART:20230312T020000
TZOFFSETFROM:-0500
TZOFFSETTO:-0400
RDATE:20240310T020000
RDATE:20250309T020000
END:DAYLIGHT
END:VTIMEZONE
BEGIN:VEVENT
UID:fd5f4250-11aa-4128-81dc-e4e85fde5951
DTSTAMP:20260422T083842Z
DESCRIPTION:The DSNMC Education Committee is now meeting on the third Thurs
 day of each month from 7:15 pm-8:15\, and new members are welcome to join 
 the committee.\n\nCo-chairs: \nKalani Brown (kalaniuke@hotmail.com) and Ca
 rrie Swann (carrie.swann@gmail.com)\n\nJoin Zoom Meeting\nhttps://us02web.
 zoom.us/j/86288520613?pwd=TmIyZ3JDcmVCRUNuanRRWWNwT2h6QT09\n\nMeeting ID: 
 862 8852 0613\nPasscode: 785188\nOne tap mobile\n+13017158592
DTSTART;TZID=America/New_York:20231019T191500
DTEND;TZID=America/New_York:20231019T201500
LOCATION:
SUMMARY:DSNMC Education Committee Meeting
END:VEVENT
END:VCALENDAR
