BEGIN:VCALENDAR
VERSION:2.0
PRODID:-//dsnmc.org//NONSGML kigkonsult.se iCalcreator 2.30.10//
CALSCALE:GREGORIAN
METHOD:PUBLISH
UID:f465d407-4808-4945-98c3-568035bb58cd
X-WR-CALDESC:DSNMC invites you to join us for our biggest fundraiser of the
  year.\n\nTogether\, we STEP UP to celebrate the extraordinary lives of pe
 ople with Down syndrome and raise much-needed funds to provide education a
 nd support programs\, resources and advocacy\, and initiatives that span t
 he lives of individuals with Down syndrome from birth through adulthood.\n
 \nThe Step UP Walk is a short 1-mile stroll around Falls Road Park (Hadley
 's Park)\, located in Potomac\, Maryland. We kick off the morning with a p
 re-party at 10:30 AM and start the walk at 11:45 AM. The event is filled w
 ith entertainment\, music\, and fun at every turn. After the 'walk'\, stro
 ll right into our after-party with dancing\, activities\, food\, water\, a
 nd fun for everyone to enjoy.\n\nRegistration will open in June.\n\n
X-WR-RELCALID:b882efae0a54d7d7d5dbc9c72e817493
X-WR-TIMEZONE:America/New_York
BEGIN:VTIMEZONE
TZID:America/New_York
BEGIN:STANDARD
TZNAME:EST
DTSTART:20221106T020000
TZOFFSETFROM:-0400
TZOFFSETTO:-0500
RDATE:20231105T020000
RDATE:20241103T020000
END:STANDARD
BEGIN:DAYLIGHT
TZNAME:EDT
DTSTART:20230312T020000
TZOFFSETFROM:-0500
TZOFFSETTO:-0400
RDATE:20240310T020000
RDATE:20250309T020000
END:DAYLIGHT
END:VTIMEZONE
BEGIN:VEVENT
UID:600009ff-635e-411a-9d40-26115e45262e
DTSTAMP:20260422T083704Z
DESCRIPTION:DSNMC invites you to join us for our biggest fundraiser of the 
 year.\n\nTogether\, we STEP UP to celebrate the extraordinary lives of peo
 ple with Down syndrome and raise much-needed funds to provide education an
 d support programs\, resources and advocacy\, and initiatives that span th
 e lives of individuals with Down syndrome from birth through adulthood.\n
 \nThe Step UP Walk is a short 1-mile stroll around Falls Road Park (Hadley
 's Park)\, located in Potomac\, Maryland. We kick off the morning with a p
 re-party at 10:30 AM and start the walk at 11:45 AM. The event is filled w
 ith entertainment\, music\, and fun at every turn. After the 'walk'\, stro
 ll right into our after-party with dancing\, activities\, food\, water\, a
 nd fun for everyone to enjoy.\n\nRegistration will open in June.\n\n
DTSTART;TZID=America/New_York:20231021T103000
DTEND;TZID=America/New_York:20231021T140000
LOCATION:Hadley's Park (Falls Road Park)\, 12600 Falls Road\, Potomac\, MD 
 20854 US
SUMMARY:Step UP for Down Syndrome Walk
END:VEVENT
END:VCALENDAR
