BEGIN:VCALENDAR
VERSION:2.0
PRODID:-//dsnmc.org//NONSGML kigkonsult.se iCalcreator 2.30.10//
CALSCALE:GREGORIAN
METHOD:PUBLISH
UID:a770433e-f611-408a-acf3-74b6fe85692f
X-WR-CALDESC:To celebrate the success of the Step Up Walk\, El Andariego- o
 ur longterm supporter-  is hosting a fundraiser for DSNMC.  Dine in\, or t
 ake out. on Wednesday\, October 25th\, and DSNMC will receive 15% of the p
 roceeds.  Please be sure to mention DSNMC when you place your order.
X-WR-RELCALID:f623810328ab28a4a8872cd594c10894
X-WR-TIMEZONE:America/New_York
BEGIN:VTIMEZONE
TZID:America/New_York
BEGIN:STANDARD
TZNAME:EST
DTSTART:20221106T020000
TZOFFSETFROM:-0400
TZOFFSETTO:-0500
RDATE:20231105T020000
RDATE:20241103T020000
END:STANDARD
BEGIN:DAYLIGHT
TZNAME:EDT
DTSTART:20230312T020000
TZOFFSETFROM:-0500
TZOFFSETTO:-0400
RDATE:20240310T020000
RDATE:20250309T020000
END:DAYLIGHT
END:VTIMEZONE
BEGIN:VEVENT
UID:7aff64a5-4a5b-4606-a2ac-8328a5999da2
DTSTAMP:20260422T083142Z
DESCRIPTION:To celebrate the success of the Step Up Walk\, El Andariego- ou
 r longterm supporter-  is hosting a fundraiser for DSNMC.  Dine in\, or ta
 ke out. on Wednesday\, October 25th\, and DSNMC will receive 15% of the pr
 oceeds.  Please be sure to mention DSNMC when you place your order.
DTSTART;TZID=America/New_York:20231025T110000
DTEND;TZID=America/New_York:20231025T210000
LOCATION:El Andariego\, 5 Olney Sandy Spring Road\, Ashton\, MD 20861 US
SUMMARY:El Andariego Restaurant Fundraiser
END:VEVENT
END:VCALENDAR
