BEGIN:VCALENDAR
VERSION:2.0
PRODID:-//dsnmc.org//NONSGML kigkonsult.se iCalcreator 2.30.10//
CALSCALE:GREGORIAN
METHOD:PUBLISH
UID:107b652e-9ee9-41bd-98dc-4da51e995c0a
X-WR-CALDESC:
X-WR-RELCALID:bd99d6298de19b54014e7c6fcccfea2a
X-WR-TIMEZONE:America/New_York
BEGIN:VTIMEZONE
TZID:America/New_York
BEGIN:STANDARD
TZNAME:EST
DTSTART:20221106T020000
TZOFFSETFROM:-0400
TZOFFSETTO:-0500
RDATE:20231105T020000
RDATE:20241103T020000
END:STANDARD
BEGIN:DAYLIGHT
TZNAME:EDT
DTSTART:20230312T020000
TZOFFSETFROM:-0500
TZOFFSETTO:-0400
RDATE:20240310T020000
RDATE:20250309T020000
END:DAYLIGHT
END:VTIMEZONE
BEGIN:VEVENT
UID:71a3afd0-d9b3-4bfb-a272-fb2906fa3480
DTSTAMP:20260422T083453Z
DESCRIPTION:
DTSTART;TZID=America/New_York:20231025T183000
DTEND;TZID=America/New_York:20231025T203000
LOCATION:
SUMMARY:New Parent Outreach Committee Meeting - Prenatal Decision Making
END:VEVENT
END:VCALENDAR
