BEGIN:VCALENDAR
VERSION:2.0
PRODID:-//dsnmc.org//NONSGML kigkonsult.se iCalcreator 2.30.10//
CALSCALE:GREGORIAN
METHOD:PUBLISH
UID:bf8fbc58-810d-4b5e-8457-8551170876f1
X-WR-CALDESC:Calling all post-high school Self-advocates.  Join us at our k
 ickoff meeting for the Self Advocate Network.  Meet new friends\, play gam
 es\, eat\, and help us launch our new community network.\n\nThis event is 
 free to attend and pre-registration is required.
X-WR-RELCALID:d67af5e68e13a729954f12a02236738b
X-WR-TIMEZONE:America/New_York
BEGIN:VTIMEZONE
TZID:America/New_York
BEGIN:STANDARD
TZNAME:EST
DTSTART:20221106T020000
TZOFFSETFROM:-0400
TZOFFSETTO:-0500
RDATE:20231105T020000
RDATE:20241103T020000
END:STANDARD
BEGIN:DAYLIGHT
TZNAME:EDT
DTSTART:20230312T020000
TZOFFSETFROM:-0500
TZOFFSETTO:-0400
RDATE:20240310T020000
RDATE:20250309T020000
END:DAYLIGHT
END:VTIMEZONE
BEGIN:VEVENT
UID:77510962-a84e-4f67-ab68-76567e989d36
DTSTAMP:20260420T081518Z
DESCRIPTION:Calling all post-high school Self-advocates.  Join us at our ki
 ckoff meeting for the Self Advocate Network.  Meet new friends\, play game
 s\, eat\, and help us launch our new community network.\n\nThis event is f
 ree to attend and pre-registration is required.
DTSTART;TZID=America/New_York:20231029T160000
DTEND;TZID=America/New_York:20231029T180000
LOCATION:Main Street (classroom)\, 50 Monroe Place\, Rockville\, MD 20850 U
 S
SUMMARY:Self-advocate Community Network Kickoff Meeting
END:VEVENT
END:VCALENDAR
