BEGIN:VCALENDAR
VERSION:2.0
PRODID:-//dsnmc.org//NONSGML kigkonsult.se iCalcreator 2.30.10//
CALSCALE:GREGORIAN
METHOD:PUBLISH
UID:a5098ade-e9cc-4d25-a178-a23c64960421
X-WR-CALDESC:
X-WR-RELCALID:68bbe40ec66592f3a0c74caeeca4fcb3
X-WR-TIMEZONE:America/New_York
BEGIN:VTIMEZONE
TZID:America/New_York
BEGIN:STANDARD
TZNAME:EST
DTSTART:20221106T020000
TZOFFSETFROM:-0400
TZOFFSETTO:-0500
RDATE:20231105T020000
RDATE:20241103T020000
END:STANDARD
BEGIN:DAYLIGHT
TZNAME:EDT
DTSTART:20230312T020000
TZOFFSETFROM:-0500
TZOFFSETTO:-0400
RDATE:20240310T020000
RDATE:20250309T020000
END:DAYLIGHT
END:VTIMEZONE
BEGIN:VEVENT
UID:6742f921-37f9-4417-a4c7-2900050050f4
DTSTAMP:20260420T081237Z
DESCRIPTION:
DTSTART;TZID=America/New_York:20231030T173000
DTEND;TZID=America/New_York:20231030T203000
LOCATION:
SUMMARY:DSNMC Winter Dance
END:VEVENT
END:VCALENDAR
