BEGIN:VCALENDAR
VERSION:2.0
PRODID:-//dsnmc.org//NONSGML kigkonsult.se iCalcreator 2.30.10//
CALSCALE:GREGORIAN
METHOD:PUBLISH
UID:42364d23-4647-45ab-afd6-e2b7590bfee8
X-WR-CALDESC:
X-WR-RELCALID:810ba3bf05a1ee0487c6ab3201d86369
X-WR-TIMEZONE:America/New_York
BEGIN:VTIMEZONE
TZID:America/New_York
BEGIN:STANDARD
TZNAME:EST
DTSTART:20221106T020000
TZOFFSETFROM:-0400
TZOFFSETTO:-0500
RDATE:20231105T020000
RDATE:20241103T020000
END:STANDARD
BEGIN:DAYLIGHT
TZNAME:EDT
DTSTART:20230312T020000
TZOFFSETFROM:-0500
TZOFFSETTO:-0400
RDATE:20240310T020000
RDATE:20250309T020000
END:DAYLIGHT
END:VTIMEZONE
BEGIN:VEVENT
UID:55e17c4d-e5b8-44ed-a122-5c41fa4461c6
DTSTAMP:20260420T065755Z
DESCRIPTION:
DTSTART;TZID=America/New_York:20231102T193000
DTEND;TZID=America/New_York:20231102T203000
LOCATION:
SUMMARY:Creating a Special Needs Legal and Life Care Plan
END:VEVENT
END:VCALENDAR
