BEGIN:VCALENDAR
VERSION:2.0
PRODID:-//dsnmc.org//NONSGML kigkonsult.se iCalcreator 2.30.10//
CALSCALE:GREGORIAN
METHOD:PUBLISH
UID:b17aef69-1621-4590-9f46-d6a1b07bf66a
X-WR-CALDESC:This free event is geared toward families with children younge
 r than 5 with Down syndrome\, families new to DSNMC\, families new to Mont
 gomery County and families with a pre-natal diagnosis.  At the breakfast\,
  you will meet DSNMC leadership as well as other families caring for young
  children with Ds.  It's a great way to become familiar with DSNMC in a re
 laxed setting. Coffee and breakfast are on us!  We look forward to meeting
  you.\n
X-WR-RELCALID:1a60176d27072830cf837f8d0cc9ceec
X-WR-TIMEZONE:America/New_York
BEGIN:VTIMEZONE
TZID:America/New_York
BEGIN:STANDARD
TZNAME:EST
DTSTART:20221106T020000
TZOFFSETFROM:-0400
TZOFFSETTO:-0500
RDATE:20231105T020000
RDATE:20241103T020000
END:STANDARD
BEGIN:DAYLIGHT
TZNAME:EDT
DTSTART:20230312T020000
TZOFFSETFROM:-0500
TZOFFSETTO:-0400
RDATE:20240310T020000
RDATE:20250309T020000
END:DAYLIGHT
END:VTIMEZONE
BEGIN:VEVENT
UID:6a678fde-3bc9-445e-ab37-21b2b7e6f9c5
DTSTAMP:20260420T065607Z
DESCRIPTION:This free event is geared toward families with children younger
  than 5 with Down syndrome\, families new to DSNMC\, families new to Montg
 omery County and families with a pre-natal diagnosis.  At the breakfast\, 
 you will meet DSNMC leadership as well as other families caring for young 
 children with Ds.  It's a great way to become familiar with DSNMC in a rel
 axed setting. Coffee and breakfast are on us!  We look forward to meeting 
 you.\n
DTSTART;TZID=America/New_York:20231105T100000
DTEND;TZID=America/New_York:20231105T120000
LOCATION:Main Street (Poppy's Kitchen)\, 50 Monroe Place\, Rockville\, MD 2
 0850 US
SUMMARY:New Family Breakfast
END:VEVENT
END:VCALENDAR
