BEGIN:VCALENDAR
VERSION:2.0
PRODID:-//dsnmc.org//NONSGML kigkonsult.se iCalcreator 2.30.10//
CALSCALE:GREGORIAN
METHOD:PUBLISH
UID:033ed06e-0be1-4292-ae73-442b9a9209a9
X-WR-CALDESC:Join Adrian and Katie for pizza\, fun\, and games with your fr
 iends. This event is open to all teens with Down syndrome and their teen s
 iblings. Please be sure to pre-register by Wednesday\, November 8th so tha
 t we have enough food for everyone who plans to attend.\n\nThis event will
  be held in a private home in Kensington\, Maryland. You will receive the 
 address in your confirmation email.\n\nThis is intended to be a 'drop off'
  event unless you feel that your teen needs your 1:1 supervision.\n\nThe c
 ost of this event is $5.00 per person. Please email Joy if you need a scho
 larship to attend this event.
X-WR-RELCALID:75de544727428e684e6b76d5e347d74d
X-WR-TIMEZONE:America/New_York
BEGIN:VTIMEZONE
TZID:America/New_York
BEGIN:STANDARD
TZNAME:EST
DTSTART:20231105T020000
TZOFFSETFROM:-0400
TZOFFSETTO:-0500
RDATE:20241103T020000
END:STANDARD
BEGIN:DAYLIGHT
TZNAME:EDT
DTSTART:20230312T020000
TZOFFSETFROM:-0500
TZOFFSETTO:-0400
RDATE:20240310T020000
RDATE:20250309T020000
END:DAYLIGHT
END:VTIMEZONE
BEGIN:VEVENT
UID:d6b1fc52-bbe8-41b6-b70e-c2cd88e4b118
DTSTAMP:20260420T065800Z
DESCRIPTION:Join Adrian and Katie for pizza\, fun\, and games with your fri
 ends. This event is open to all teens with Down syndrome and their teen si
 blings. Please be sure to pre-register by Wednesday\, November 8th so that
  we have enough food for everyone who plans to attend.\n\nThis event will 
 be held in a private home in Kensington\, Maryland. You will receive the a
 ddress in your confirmation email.\n\nThis is intended to be a 'drop off' 
 event unless you feel that your teen needs your 1:1 supervision.\n\nThe co
 st of this event is $5.00 per person. Please email Joy if you need a schol
 arship to attend this event.
DTSTART;TZID=America/New_York:20231110T173000
DTEND;TZID=America/New_York:20231110T193000
LOCATION:
SUMMARY:In Person Teen Hangout
END:VEVENT
END:VCALENDAR
