BEGIN:VCALENDAR
VERSION:2.0
PRODID:-//dsnmc.org//NONSGML kigkonsult.se iCalcreator 2.30.10//
CALSCALE:GREGORIAN
METHOD:PUBLISH
UID:2b48594e-a8ae-4522-9b29-496b40b1c54a
X-WR-CALDESC:
X-WR-RELCALID:28b2ac3394d4d53d6511a90f2c9077e3
X-WR-TIMEZONE:America/New_York
BEGIN:VTIMEZONE
TZID:America/New_York
BEGIN:STANDARD
TZNAME:EST
DTSTART:20231105T020000
TZOFFSETFROM:-0400
TZOFFSETTO:-0500
RDATE:20241103T020000
END:STANDARD
BEGIN:DAYLIGHT
TZNAME:EDT
DTSTART:20230312T020000
TZOFFSETFROM:-0500
TZOFFSETTO:-0400
RDATE:20240310T020000
RDATE:20250309T020000
END:DAYLIGHT
END:VTIMEZONE
BEGIN:VEVENT
UID:f7da0c17-1bf7-48d2-a5d5-323f01e5ca8a
DTSTAMP:20260420T065459Z
DESCRIPTION:
DTSTART;TZID=America/New_York:20231111T000000
DTEND;TZID=America/New_York:20231111T233000
LOCATION:
SUMMARY:Veterans Day
END:VEVENT
END:VCALENDAR
