BEGIN:VCALENDAR
VERSION:2.0
PRODID:-//dsnmc.org//NONSGML kigkonsult.se iCalcreator 2.30.10//
CALSCALE:GREGORIAN
METHOD:PUBLISH
UID:50ee7f39-2b04-43a7-98c5-c92c5e29911b
X-WR-CALDESC:Join your friends in person for a Positively Speaking by Art S
 tream class on November 12th\, from 3:00 - 4:30. While the self-advocates 
 are working on communication skills\, there will be an additional room ava
 ilable for parents to congregate\, share resources\, and socialize.\n\nThi
 s class is limited to 15 participants.\n\n
X-WR-RELCALID:1ea1b288650b9e38b0884b443941548e
X-WR-TIMEZONE:America/New_York
BEGIN:VTIMEZONE
TZID:America/New_York
BEGIN:STANDARD
TZNAME:EST
DTSTART:20231105T020000
TZOFFSETFROM:-0400
TZOFFSETTO:-0500
RDATE:20241103T020000
END:STANDARD
BEGIN:DAYLIGHT
TZNAME:EDT
DTSTART:20230312T020000
TZOFFSETFROM:-0500
TZOFFSETTO:-0400
RDATE:20240310T020000
RDATE:20250309T020000
END:DAYLIGHT
END:VTIMEZONE
BEGIN:VEVENT
UID:04691751-eced-4cfe-bdba-6ec0fc1f3e07
DTSTAMP:20260420T065505Z
DESCRIPTION:Join your friends in person for a Positively Speaking by Art St
 ream class on November 12th\, from 3:00 - 4:30. While the self-advocates a
 re working on communication skills\, there will be an additional room avai
 lable for parents to congregate\, share resources\, and socialize.\n\nThis
  class is limited to 15 participants.\n\n
DTSTART;TZID=America/New_York:20231112T150000
DTEND;TZID=America/New_York:20231112T163000
LOCATION:North  Chevy Chase Christian Church\, 8814 Kensington Parkway\, Ch
 evy Chase\, MD 20815 US
SUMMARY:ArtStream Positively Speaking Workshop
END:VEVENT
END:VCALENDAR
