BEGIN:VCALENDAR
VERSION:2.0
PRODID:-//dsnmc.org//NONSGML kigkonsult.se iCalcreator 2.30.10//
CALSCALE:GREGORIAN
METHOD:PUBLISH
UID:85e3726a-f77b-4af4-b01c-5f2cfe2f1ff3
X-WR-CALDESC:
X-WR-RELCALID:ca7414f9184a19b41e05482a90810f15
X-WR-TIMEZONE:America/New_York
BEGIN:VTIMEZONE
TZID:America/New_York
BEGIN:STANDARD
TZNAME:EST
DTSTART:20231105T020000
TZOFFSETFROM:-0400
TZOFFSETTO:-0500
RDATE:20241103T020000
END:STANDARD
BEGIN:DAYLIGHT
TZNAME:EDT
DTSTART:20230312T020000
TZOFFSETFROM:-0500
TZOFFSETTO:-0400
RDATE:20240310T020000
RDATE:20250309T020000
END:DAYLIGHT
END:VTIMEZONE
BEGIN:VEVENT
UID:46132cbd-ac38-4bac-ab76-2c32f9275354
DTSTAMP:20260420T065449Z
DESCRIPTION:
DTSTART;TZID=America/New_York:20231112T000000
DTEND;TZID=America/New_York:20231112T233000
LOCATION:
SUMMARY:Dewali
END:VEVENT
END:VCALENDAR
