BEGIN:VCALENDAR
VERSION:2.0
PRODID:-//dsnmc.org//NONSGML kigkonsult.se iCalcreator 2.30.10//
CALSCALE:GREGORIAN
METHOD:PUBLISH
UID:bb144aec-54aa-4007-ac65-5b80815f1194
X-WR-CALDESC:What is the application process for social security? What is t
 he difference between SSI and SSDI? Who is eligible for Medicare and Medic
 aid? Attend this virtual presentation to learn the basics of Social Securi
 ty Benefits. This virtual workshop will be presented by Diana Varela\, SSA
  Public Affairs Specialist.\n\nThis presentation will be offered in Spanis
 h on December 14th.
X-WR-RELCALID:a1a43f87fd0f465eeee56aac74d2ba49
X-WR-TIMEZONE:America/New_York
BEGIN:VTIMEZONE
TZID:America/New_York
BEGIN:STANDARD
TZNAME:EST
DTSTART:20231105T020000
TZOFFSETFROM:-0400
TZOFFSETTO:-0500
RDATE:20241103T020000
END:STANDARD
BEGIN:DAYLIGHT
TZNAME:EDT
DTSTART:20230312T020000
TZOFFSETFROM:-0500
TZOFFSETTO:-0400
RDATE:20240310T020000
RDATE:20250309T020000
END:DAYLIGHT
END:VTIMEZONE
BEGIN:VEVENT
UID:ec70191a-8093-4057-88db-54b61701a2ab
DTSTAMP:20260420T065459Z
DESCRIPTION:What is the application process for social security? What is th
 e difference between SSI and SSDI? Who is eligible for Medicare and Medica
 id? Attend this virtual presentation to learn the basics of Social Securit
 y Benefits. This virtual workshop will be presented by Diana Varela\, SSA 
 Public Affairs Specialist.\n\nThis presentation will be offered in Spanish
  on December 14th.
DTSTART;TZID=America/New_York:20231116T193000
DTEND;TZID=America/New_York:20231116T210000
LOCATION:https://dsnmc.networkforgood.com/events/59399-understanding-social
 -security-benefits
SUMMARY:Understanding Social Security Benefits
END:VEVENT
END:VCALENDAR
