BEGIN:VCALENDAR
VERSION:2.0
PRODID:-//dsnmc.org//NONSGML kigkonsult.se iCalcreator 2.30.10//
CALSCALE:GREGORIAN
METHOD:PUBLISH
UID:1fd2f936-b88c-4ac2-9ced-d61278b16d3a
X-WR-CALDESC:Join our Teen Hangout program every Thursday at 6:30 via Zoom!
  For Ages 12 - 17. Families are welcome to join.
X-WR-RELCALID:5c59e8de4ea775156fbee027d864554f
X-WR-TIMEZONE:America/New_York
BEGIN:VTIMEZONE
TZID:America/New_York
BEGIN:STANDARD
TZNAME:EST
DTSTART:20231105T020000
TZOFFSETFROM:-0400
TZOFFSETTO:-0500
RDATE:20241103T020000
END:STANDARD
BEGIN:DAYLIGHT
TZNAME:EDT
DTSTART:20230312T020000
TZOFFSETFROM:-0500
TZOFFSETTO:-0400
RDATE:20240310T020000
RDATE:20250309T020000
END:DAYLIGHT
END:VTIMEZONE
BEGIN:VEVENT
UID:9c87deba-32b2-454e-b99f-6a55cd50fa52
DTSTAMP:20260420T065800Z
DESCRIPTION:Join our Teen Hangout program every Thursday at 6:30 via Zoom! 
 For Ages 12 - 17. Families are welcome to join.
DTSTART;TZID=America/New_York:20231123T183000
DTEND;TZID=America/New_York:20231123T190000
LOCATION:https://us02web.zoom.us/j/83919769645
SUMMARY:No teen handout today
END:VEVENT
END:VCALENDAR
