BEGIN:VCALENDAR
VERSION:2.0
PRODID:-//dsnmc.org//NONSGML kigkonsult.se iCalcreator 2.30.10//
CALSCALE:GREGORIAN
METHOD:PUBLISH
UID:316e0e4f-317f-48dc-bb23-0eef1015fdd1
X-WR-CALDESC:The DSNMC Education Committee is now meeting on the third Thur
 sday of each month from 7:15 pm 8:15 pm\, and new members are always welco
 me.\n\nCo-chairs: \nKalani Brown (kalaniuke@hotmail.com) and Carrie Swann 
 (carrie.swann@gmail.com)\n\nJoin Zoom Meeting\nhttps://us02web.zoom.us/j/8
 6288520613?pwd=TmIyZ3JDcmVCRUNuanRRWWNwT2h6QT09\n\nMeeting ID: 862 8852 06
 13\nPasscode: 785188\nOne tap mobile\n+13017158592
X-WR-RELCALID:b110f8ea0a095601dc1ec27bbafdd830
X-WR-TIMEZONE:America/New_York
BEGIN:VTIMEZONE
TZID:America/New_York
BEGIN:STANDARD
TZNAME:EST
DTSTART:20231105T020000
TZOFFSETFROM:-0400
TZOFFSETTO:-0500
RDATE:20241103T020000
END:STANDARD
BEGIN:DAYLIGHT
TZNAME:EDT
DTSTART:20230312T020000
TZOFFSETFROM:-0500
TZOFFSETTO:-0400
RDATE:20240310T020000
RDATE:20250309T020000
END:DAYLIGHT
END:VTIMEZONE
BEGIN:VEVENT
UID:f5eb2ac2-3162-4d9e-9673-a1f21a3240a6
DTSTAMP:20260420T065737Z
DESCRIPTION:The DSNMC Education Committee is now meeting on the third Thurs
 day of each month from 7:15 pm 8:15 pm\, and new members are always welcom
 e.\n\nCo-chairs: \nKalani Brown (kalaniuke@hotmail.com) and Carrie Swann (
 carrie.swann@gmail.com)\n\nJoin Zoom Meeting\nhttps://us02web.zoom.us/j/86
 288520613?pwd=TmIyZ3JDcmVCRUNuanRRWWNwT2h6QT09\n\nMeeting ID: 862 8852 061
 3\nPasscode: 785188\nOne tap mobile\n+13017158592
DTSTART;TZID=America/New_York:20231128T191500
DTEND;TZID=America/New_York:20231128T201500
LOCATION:
SUMMARY:DSNMC Education Committee Meeting
END:VEVENT
END:VCALENDAR
