BEGIN:VCALENDAR
VERSION:2.0
PRODID:-//dsnmc.org//NONSGML kigkonsult.se iCalcreator 2.30.10//
CALSCALE:GREGORIAN
METHOD:PUBLISH
UID:de6fac54-5747-4b3a-8253-afa454942c1c
X-WR-CALDESC:All are welcome to join our DEIB committee to help ensure that
  DSNMC is inclusive of our membership.  If you are interested in attending
  the meeting\, please email Joy at admin@dsnmc.org for the zoom link.
X-WR-RELCALID:f9c1dfad0d30cb63668a55c6dfcfd180
X-WR-TIMEZONE:America/New_York
BEGIN:VTIMEZONE
TZID:America/New_York
BEGIN:STANDARD
TZNAME:EST
DTSTART:20231105T020000
TZOFFSETFROM:-0400
TZOFFSETTO:-0500
RDATE:20241103T020000
END:STANDARD
BEGIN:DAYLIGHT
TZNAME:EDT
DTSTART:20230312T020000
TZOFFSETFROM:-0500
TZOFFSETTO:-0400
RDATE:20240310T020000
RDATE:20250309T020000
END:DAYLIGHT
END:VTIMEZONE
BEGIN:VEVENT
UID:1d7708bf-9eed-45a9-b540-1a5faafabc2f
DTSTAMP:20260420T065750Z
DESCRIPTION:All are welcome to join our DEIB committee to help ensure that 
 DSNMC is inclusive of our membership.  If you are interested in attending 
 the meeting\, please email Joy at admin@dsnmc.org for the zoom link.
DTSTART;TZID=America/New_York:20231130T193000
DTEND;TZID=America/New_York:20231130T210000
LOCATION:
SUMMARY:Diversity\, Equity\, Inclusion and Belonging Meeting
END:VEVENT
END:VCALENDAR
