BEGIN:VCALENDAR
VERSION:2.0
PRODID:-//dsnmc.org//NONSGML kigkonsult.se iCalcreator 2.30.10//
CALSCALE:GREGORIAN
METHOD:PUBLISH
UID:07044581-cf6f-4661-945f-8bd1db88bed3
X-WR-CALDESC:This event is designed for families who have a child with Down
  syndrome aged 3 or younger.\n\nWhen: Saturday\, December 2nd\nTime: 10 am
  - 12 noon (feel free to arrive late and/or leave early)\nWhere: Kristi Ma
 eng's home in Silver Spring. (Address will be provided to registrants)\nDS
 NMC will be offering playgroups on a regular basis\, so if you are unable 
 to attend this playgroup\, there will be others scheduled. If you\, or you
 r little one\, are showing any signs of illness (fever\, coughing\, excess
 ive runny nose\, etc.) please stay home and we will see you the next time.
 \n\n\nThis playdate is being offered in a more intimate setting to allow y
 ou the opportunity to focus on your little one and chat with others and is
  limited to ten families. If the event is sold out\, please email Joy who 
 will add your name to a waiting list. While this event is designed for fam
 ilies that have a child with Down syndrome 3 and younger\, we understand i
 f older siblings (who aren't showing any signs of illness) need to attend.
 \n\n\n¡Se ha fijado una fecha para nuestra primera cita de juego 'estilo h
 ogareño'! Este evento está diseñado para familias que tienen un niño con s
 índrome de Down de 3 años o menos.\n\nCuándo: sábado 30 de septiembre\nHor
 a: 10 am - 12 mediodía (no dudes en llegar tarde y/o salir temprano)\nDónd
 e: La casa de Kristi Maeng en Silver Spring. (La dirección se proporcionar
 á a los inscritos)\nDSNMC ofrecerá grupos de juego de forma regular\, por 
 lo que si no puede asistir a este grupo de juego\, habrá otros programados
 . Si usted o su pequeño muestran algún signo de enfermedad (fiebre\, tos\,
  secreción nasal excesiva\, etc.)\, quédese en casa y nos vemos la próxima
  vez.\n\nDSNMC proporcionará refrigerios y bebidas (principalmente para lo
 s adultos). No dudes en traer bocadillos o una bebida para tu pequeño.\nLa
  familia Maeng tiene un perro Bichon Frise (hipoalergénico) que los visita
  con frecuencia pero que no estará presente durante la cita de juego.\nEst
 a cita de juego se ofrece en un ambiente más íntimo para brindarle la opor
 tunidad de concentrarse en su pequeño y conversar con otros y está limitad
 a a diez familias. Si el evento está agotado\, envíe un correo electrónico
  a Joy\, quien agregará su nombre a una lista de espera. Si bien este even
 to está diseñado para familias que tienen un niño con síndrome de Down de 
 3 años o menos\, entendemos si es necesario que asistan hermanos mayores (
 que no muestren ningún signo de enfermedad).\n\n
X-WR-RELCALID:ff363b104629e6db84353489e0a2a4a5
X-WR-TIMEZONE:America/New_York
BEGIN:VTIMEZONE
TZID:America/New_York
BEGIN:STANDARD
TZNAME:EST
DTSTART:20231105T020000
TZOFFSETFROM:-0400
TZOFFSETTO:-0500
RDATE:20241103T020000
END:STANDARD
BEGIN:DAYLIGHT
TZNAME:EDT
DTSTART:20230312T020000
TZOFFSETFROM:-0500
TZOFFSETTO:-0400
RDATE:20240310T020000
RDATE:20250309T020000
END:DAYLIGHT
END:VTIMEZONE
BEGIN:VEVENT
UID:120a7b2a-1cdc-4073-aff9-e866be35ec50
DTSTAMP:20260420T053928Z
DESCRIPTION:This event is designed for families who have a child with Down 
 syndrome aged 3 or younger.\n\nWhen: Saturday\, December 2nd\nTime: 10 am 
 - 12 noon (feel free to arrive late and/or leave early)\nWhere: Kristi Mae
 ng's home in Silver Spring. (Address will be provided to registrants)\nDSN
 MC will be offering playgroups on a regular basis\, so if you are unable t
 o attend this playgroup\, there will be others scheduled. If you\, or your
  little one\, are showing any signs of illness (fever\, coughing\, excessi
 ve runny nose\, etc.) please stay home and we will see you the next time.
 \n\n\nThis playdate is being offered in a more intimate setting to allow y
 ou the opportunity to focus on your little one and chat with others and is
  limited to ten families. If the event is sold out\, please email Joy who 
 will add your name to a waiting list. While this event is designed for fam
 ilies that have a child with Down syndrome 3 and younger\, we understand i
 f older siblings (who aren't showing any signs of illness) need to attend.
 \n\n\n¡Se ha fijado una fecha para nuestra primera cita de juego 'estilo h
 ogareño'! Este evento está diseñado para familias que tienen un niño con s
 índrome de Down de 3 años o menos.\n\nCuándo: sábado 30 de septiembre\nHor
 a: 10 am - 12 mediodía (no dudes en llegar tarde y/o salir temprano)\nDónd
 e: La casa de Kristi Maeng en Silver Spring. (La dirección se proporcionar
 á a los inscritos)\nDSNMC ofrecerá grupos de juego de forma regular\, por 
 lo que si no puede asistir a este grupo de juego\, habrá otros programados
 . Si usted o su pequeño muestran algún signo de enfermedad (fiebre\, tos\,
  secreción nasal excesiva\, etc.)\, quédese en casa y nos vemos la próxima
  vez.\n\nDSNMC proporcionará refrigerios y bebidas (principalmente para lo
 s adultos). No dudes en traer bocadillos o una bebida para tu pequeño.\nLa
  familia Maeng tiene un perro Bichon Frise (hipoalergénico) que los visita
  con frecuencia pero que no estará presente durante la cita de juego.\nEst
 a cita de juego se ofrece en un ambiente más íntimo para brindarle la opor
 tunidad de concentrarse en su pequeño y conversar con otros y está limitad
 a a diez familias. Si el evento está agotado\, envíe un correo electrónico
  a Joy\, quien agregará su nombre a una lista de espera. Si bien este even
 to está diseñado para familias que tienen un niño con síndrome de Down de 
 3 años o menos\, entendemos si es necesario que asistan hermanos mayores (
 que no muestren ningún signo de enfermedad).\n\n
DTSTART;TZID=America/New_York:20231202T100000
DTEND;TZID=America/New_York:20231202T120000
LOCATION:
SUMMARY:Playgroup for Infants and Toddlers
END:VEVENT
END:VCALENDAR
