BEGIN:VCALENDAR
VERSION:2.0
PRODID:-//dsnmc.org//NONSGML kigkonsult.se iCalcreator 2.30.10//
CALSCALE:GREGORIAN
METHOD:PUBLISH
UID:33b92225-6ed3-43c9-8cf7-8bf5d41a9b82
X-WR-CALDESC:
X-WR-RELCALID:db56997ffcdb5e6e974d8e019f6efdaf
X-WR-TIMEZONE:America/New_York
BEGIN:VTIMEZONE
TZID:America/New_York
BEGIN:STANDARD
TZNAME:EST
DTSTART:20231105T020000
TZOFFSETFROM:-0400
TZOFFSETTO:-0500
RDATE:20241103T020000
END:STANDARD
BEGIN:DAYLIGHT
TZNAME:EDT
DTSTART:20230312T020000
TZOFFSETFROM:-0500
TZOFFSETTO:-0400
RDATE:20240310T020000
RDATE:20250309T020000
END:DAYLIGHT
END:VTIMEZONE
BEGIN:VEVENT
UID:f79906ba-cfdb-4e4e-8060-d15dcd12b189
DTSTAMP:20260420T053832Z
DESCRIPTION:
DTSTART;TZID=America/New_York:20231207T173000
DTEND;TZID=America/New_York:20231207T233000
LOCATION:
SUMMARY:Chanukah begins at sundown
END:VEVENT
END:VCALENDAR
