BEGIN:VCALENDAR
VERSION:2.0
PRODID:-//dsnmc.org//NONSGML kigkonsult.se iCalcreator 2.30.10//
CALSCALE:GREGORIAN
METHOD:PUBLISH
UID:a02da08c-2db1-4c23-8304-63f61b2acb3f
X-WR-CALDESC:Keeping our loved ones with Down syndrome safe is a priority f
 or all families. Attend this important virtual Meet and Greet with Laurie 
 Reyes\, Montgomery County Police Department when she will provide tips on 
 general safety\, and prevention of wandering. This presentation is geared 
 toward families of all ages.
X-WR-RELCALID:27b9d6104ea69390a9606b22869b844d
X-WR-TIMEZONE:America/New_York
BEGIN:VTIMEZONE
TZID:America/New_York
BEGIN:STANDARD
TZNAME:EST
DTSTART:20231105T020000
TZOFFSETFROM:-0400
TZOFFSETTO:-0500
RDATE:20241103T020000
END:STANDARD
BEGIN:DAYLIGHT
TZNAME:EDT
DTSTART:20230312T020000
TZOFFSETFROM:-0500
TZOFFSETTO:-0400
RDATE:20240310T020000
RDATE:20250309T020000
END:DAYLIGHT
END:VTIMEZONE
BEGIN:VEVENT
UID:d0650472-168d-42a9-91d4-2009ce26058e
DTSTAMP:20260420T053948Z
DESCRIPTION:Keeping our loved ones with Down syndrome safe is a priority fo
 r all families. Attend this important virtual Meet and Greet with Laurie R
 eyes\, Montgomery County Police Department when she will provide tips on g
 eneral safety\, and prevention of wandering. This presentation is geared t
 oward families of all ages.
DTSTART;TZID=America/New_York:20231207T193000
DTEND;TZID=America/New_York:20231207T203000
LOCATION:https://dsnmc.networkforgood.com/events/64375-safety-for-loved-one
 s-with-down-syndrome
SUMMARY:Safety for your loved ones with Down syndrome
END:VEVENT
END:VCALENDAR
