BEGIN:VCALENDAR
VERSION:2.0
PRODID:-//dsnmc.org//NONSGML kigkonsult.se iCalcreator 2.30.10//
CALSCALE:GREGORIAN
METHOD:PUBLISH
UID:0177aa00-f5c7-42cd-b2a0-0e605790b122
X-WR-CALDESC:¡Únete a Grupo Latino para celebrar las fiestas! Nos reuniremo
 s este domingo desde el mediodía hasta las 4 pm. Este será un evento compa
 rtido\, así que utilice el genio de registro y díganos qué comida traerá p
 ara compartir. Si desea participar en un intercambio de regalos\, traiga u
 n regalo envuelto de $10 o menos. Asegúrese de que el obsequio esté etique
 tado para indicar para qué grupo de edad es. Todos los miembros de DSNMC s
 on bienvenidos a asistir a este evento festivo.\n\nJoin Grupo Latino to ce
 lebrate the holidays! We will meet this Sunday from noon to 4 pm. This wil
 l be a pot luck meal\, so use the signup genius and let us know what food 
 you'll be bringing to share. If you would like to participate in a gift ex
 change\, please bring a wrapped gift of $10 or less. Make sure the gift is
  labeled to indicate what age group it is for. All DSNMC members are welco
 me to attend this festive event.\n\n
X-WR-RELCALID:6f78845389fd4a6592f2073317768019
X-WR-TIMEZONE:America/New_York
BEGIN:VTIMEZONE
TZID:America/New_York
BEGIN:STANDARD
TZNAME:EST
DTSTART:20231105T020000
TZOFFSETFROM:-0400
TZOFFSETTO:-0500
RDATE:20241103T020000
END:STANDARD
BEGIN:DAYLIGHT
TZNAME:EDT
DTSTART:20230312T020000
TZOFFSETFROM:-0500
TZOFFSETTO:-0400
RDATE:20240310T020000
RDATE:20250309T020000
END:DAYLIGHT
END:VTIMEZONE
BEGIN:VEVENT
UID:912f48bd-f5e8-4103-a973-bee520e18ae9
DTSTAMP:20260420T054126Z
DESCRIPTION:¡Únete a Grupo Latino para celebrar las fiestas! Nos reuniremos
  este domingo desde el mediodía hasta las 4 pm. Este será un evento compar
 tido\, así que utilice el genio de registro y díganos qué comida traerá pa
 ra compartir. Si desea participar en un intercambio de regalos\, traiga un
  regalo envuelto de $10 o menos. Asegúrese de que el obsequio esté etiquet
 ado para indicar para qué grupo de edad es. Todos los miembros de DSNMC so
 n bienvenidos a asistir a este evento festivo.\n\nJoin Grupo Latino to cel
 ebrate the holidays! We will meet this Sunday from noon to 4 pm. This will
  be a pot luck meal\, so use the signup genius and let us know what food y
 ou'll be bringing to share. If you would like to participate in a gift exc
 hange\, please bring a wrapped gift of $10 or less. Make sure the gift is 
 labeled to indicate what age group it is for. All DSNMC members are welcom
 e to attend this festive event.\n\n
DTSTART;TZID=America/New_York:20231210T120000
DTEND;TZID=America/New_York:20231210T160000
LOCATION:St. Bartholomew Church\, 6900 River Road\, Bethesda\, MD 20817 US
SUMMARY:Fiesta navideña del Grupo Latino/Grupo Latino Holiday Party
END:VEVENT
END:VCALENDAR
