BEGIN:VCALENDAR
VERSION:2.0
PRODID:-//dsnmc.org//NONSGML kigkonsult.se iCalcreator 2.30.10//
CALSCALE:GREGORIAN
METHOD:PUBLISH
UID:12025f0b-c0e9-4a89-973e-172bdbd906fb
X-WR-CALDESC:
X-WR-RELCALID:8ca462b5a60ad353056047a6735965ba
X-WR-TIMEZONE:America/New_York
BEGIN:VTIMEZONE
TZID:America/New_York
BEGIN:STANDARD
TZNAME:EST
DTSTART:20231105T020000
TZOFFSETFROM:-0400
TZOFFSETTO:-0500
RDATE:20241103T020000
END:STANDARD
BEGIN:DAYLIGHT
TZNAME:EDT
DTSTART:20230312T020000
TZOFFSETFROM:-0500
TZOFFSETTO:-0400
RDATE:20240310T020000
RDATE:20250309T020000
END:DAYLIGHT
END:VTIMEZONE
BEGIN:VEVENT
UID:dadd2db4-2d7d-47e3-8029-675e5d5fc65c
DTSTAMP:20260420T053959Z
DESCRIPTION:
DTSTART;TZID=America/New_York:20231213T203000
DTEND;TZID=America/New_York:20231213T220000
LOCATION:
SUMMARY:New Family Outreach Committee
END:VEVENT
END:VCALENDAR
