BEGIN:VCALENDAR
VERSION:2.0
PRODID:-//dsnmc.org//NONSGML kigkonsult.se iCalcreator 2.30.10//
CALSCALE:GREGORIAN
METHOD:PUBLISH
UID:94a427c4-d07f-45f3-a2e2-22a3e88fc2fc
X-WR-CALDESC:¿Mi ser querido es elegible para los beneficios del Seguro Soc
 ial?\n\n¿Cuál es el proceso de solicitud de la seguridad social? ¿Cuál es 
 la diferencia entre SSI y SSDI? ¿Quién es elegible para Medicare y Medicai
 d? Asista a esta presentación virtual para conocer los conceptos básicos d
 e los beneficios del Seguro Social. Este taller virtual será presentado po
 r Diana Varela\, Especialista en Asuntos Públicos de la SSA.
X-WR-RELCALID:5071bfb1fc5e445f4d686e849f181754
X-WR-TIMEZONE:America/New_York
BEGIN:VTIMEZONE
TZID:America/New_York
BEGIN:STANDARD
TZNAME:EST
DTSTART:20231105T020000
TZOFFSETFROM:-0400
TZOFFSETTO:-0500
RDATE:20241103T020000
END:STANDARD
BEGIN:DAYLIGHT
TZNAME:EDT
DTSTART:20230312T020000
TZOFFSETFROM:-0500
TZOFFSETTO:-0400
RDATE:20240310T020000
RDATE:20250309T020000
END:DAYLIGHT
END:VTIMEZONE
BEGIN:VEVENT
UID:4dd14496-2547-4c55-840d-e698ab8424ee
DTSTAMP:20260420T054229Z
DESCRIPTION:¿Mi ser querido es elegible para los beneficios del Seguro Soci
 al?\n\n¿Cuál es el proceso de solicitud de la seguridad social? ¿Cuál es l
 a diferencia entre SSI y SSDI? ¿Quién es elegible para Medicare y Medicaid
 ? Asista a esta presentación virtual para conocer los conceptos básicos de
  los beneficios del Seguro Social. Este taller virtual será presentado por
  Diana Varela\, Especialista en Asuntos Públicos de la SSA.
DTSTART;TZID=America/New_York:20231214T193000
DTEND;TZID=America/New_York:20231214T203000
LOCATION:https://dsnmc.networkforgood.com/events/59401-comprender-los-benef
 icios-del-seguro-social
SUMMARY:Comprender los beneficios del Seguro Social
END:VEVENT
END:VCALENDAR
