BEGIN:VCALENDAR
VERSION:2.0
PRODID:-//dsnmc.org//NONSGML kigkonsult.se iCalcreator 2.30.10//
CALSCALE:GREGORIAN
METHOD:PUBLISH
UID:408bede9-41b8-4a2a-ac02-3ac52ef598ba
X-WR-CALDESC:Join your friends in person for a Positively Speaking by Art S
 tream class on December 17th\, from 3:00 - 4:30. While the self-advocates 
 are working on communication skills\, there will be an additional room ava
 ilable for parents to congregate\, share resources\, and socialize.\n\nThi
 s class is limited to 15 participants.\n\n
X-WR-RELCALID:66e8b70d8c5776757b59e17f6c42aba2
X-WR-TIMEZONE:America/New_York
BEGIN:VTIMEZONE
TZID:America/New_York
BEGIN:STANDARD
TZNAME:EST
DTSTART:20231105T020000
TZOFFSETFROM:-0400
TZOFFSETTO:-0500
RDATE:20241103T020000
END:STANDARD
BEGIN:DAYLIGHT
TZNAME:EDT
DTSTART:20230312T020000
TZOFFSETFROM:-0500
TZOFFSETTO:-0400
RDATE:20240310T020000
RDATE:20250309T020000
END:DAYLIGHT
END:VTIMEZONE
BEGIN:VEVENT
UID:1fd34b61-638a-4c69-855b-bd613115fe33
DTSTAMP:20260420T053757Z
DESCRIPTION:Join your friends in person for a Positively Speaking by Art St
 ream class on December 17th\, from 3:00 - 4:30. While the self-advocates a
 re working on communication skills\, there will be an additional room avai
 lable for parents to congregate\, share resources\, and socialize.\n\nThis
  class is limited to 15 participants.\n\n
DTSTART;TZID=America/New_York:20231217T150000
DTEND;TZID=America/New_York:20231217T163000
LOCATION:North  Chevy Chase Christian Church\, 8814 Kensington Parkway\, Ch
 evy Chase\, MD 20815 US
SUMMARY:ArtStream Positively Speaking Workshop
END:VEVENT
END:VCALENDAR
