BEGIN:VCALENDAR
VERSION:2.0
PRODID:-//dsnmc.org//NONSGML kigkonsult.se iCalcreator 2.30.10//
CALSCALE:GREGORIAN
METHOD:PUBLISH
UID:c8a4ae2e-f273-4bf3-959e-2c2391e6dee5
X-WR-CALDESC:
X-WR-RELCALID:50a4e40976d15376fc9bdec9648ac69d
X-WR-TIMEZONE:America/New_York
BEGIN:VTIMEZONE
TZID:America/New_York
BEGIN:STANDARD
TZNAME:EST
DTSTART:20231105T020000
TZOFFSETFROM:-0400
TZOFFSETTO:-0500
RDATE:20241103T020000
END:STANDARD
BEGIN:DAYLIGHT
TZNAME:EDT
DTSTART:20230312T020000
TZOFFSETFROM:-0500
TZOFFSETTO:-0400
RDATE:20240310T020000
RDATE:20250309T020000
END:DAYLIGHT
END:VTIMEZONE
BEGIN:VEVENT
UID:064f199a-27dc-4fa6-96e7-4d2628a8a524
DTSTAMP:20260420T053918Z
DESCRIPTION:
DTSTART;TZID=America/New_York:20231218T193000
DTEND;TZID=America/New_York:20231218T213000
LOCATION:
SUMMARY:Board Meeting
END:VEVENT
END:VCALENDAR
