BEGIN:VCALENDAR
VERSION:2.0
PRODID:-//dsnmc.org//NONSGML kigkonsult.se iCalcreator 2.30.10//
CALSCALE:GREGORIAN
METHOD:PUBLISH
UID:2c853018-ad87-4d46-aca3-4681643f5c47
X-WR-CALDESC:The DSNMC Education Committee is now meeting on the third Thur
 sday of each month from 7:15 pm - 8:15 pm\, and welcomes new members.\n\nC
 o-chairs: \nKalani Brown (kalaniuke@hotmail.com) and Carrie Swann (carrie.
 swann@gmail.com)\n\nJoin Zoom Meeting\nhttps://us02web.zoom.us/j/862885206
 13?pwd=TmIyZ3JDcmVCRUNuanRRWWNwT2h6QT09\n\nMeeting ID: 862 8852 0613\nPass
 code: 785188\nOne tap mobile\n+13017158592
X-WR-RELCALID:fa74e517a2174fa00049e0ff6d57e22d
X-WR-TIMEZONE:America/New_York
BEGIN:VTIMEZONE
TZID:America/New_York
BEGIN:STANDARD
TZNAME:EST
DTSTART:20231105T020000
TZOFFSETFROM:-0400
TZOFFSETTO:-0500
RDATE:20241103T020000
END:STANDARD
BEGIN:DAYLIGHT
TZNAME:EDT
DTSTART:20230312T020000
TZOFFSETFROM:-0500
TZOFFSETTO:-0400
RDATE:20240310T020000
RDATE:20250309T020000
END:DAYLIGHT
END:VTIMEZONE
BEGIN:VEVENT
UID:fa7d5fcb-e69f-4855-b6cc-bcea5d3c449b
DTSTAMP:20260420T053929Z
DESCRIPTION:The DSNMC Education Committee is now meeting on the third Thurs
 day of each month from 7:15 pm - 8:15 pm\, and welcomes new members.\n\nCo
 -chairs: \nKalani Brown (kalaniuke@hotmail.com) and Carrie Swann (carrie.s
 wann@gmail.com)\n\nJoin Zoom Meeting\nhttps://us02web.zoom.us/j/8628852061
 3?pwd=TmIyZ3JDcmVCRUNuanRRWWNwT2h6QT09\n\nMeeting ID: 862 8852 0613\nPassc
 ode: 785188\nOne tap mobile\n+13017158592
DTSTART;TZID=America/New_York:20231221T191500
DTEND;TZID=America/New_York:20231221T201500
LOCATION:
SUMMARY:DSNMC Education Committee Meeting
END:VEVENT
END:VCALENDAR
