BEGIN:VCALENDAR
VERSION:2.0
PRODID:-//dsnmc.org//NONSGML kigkonsult.se iCalcreator 2.30.10//
CALSCALE:GREGORIAN
METHOD:PUBLISH
UID:42f190ad-c7f0-4a31-bdc0-a6cadfc9d704
X-WR-CALDESC:Celebrate the holiday season with friends!\n\nCalling teens of
  all ages! DSNMC is having a holiday party just for you. Join Adrian and K
 atie for an in-person teen hangout at Mainstreet\, from 6-8 pm on Thursday
 \, December 21st. DSNMC will provide food\, and two hours of fun. For thos
 e who would like to participate\, there will be a gift exchange - all gift
 s must be under $15.00.\n\nThis is intended to be a 'drop off' event unles
 s you feel that your teen needs your 1:1 supervision.\n\nThis event is fre
 e and pre-registration is required so that we purchase the proper amount o
 f food.
X-WR-RELCALID:8716734c6b8125ac5f54ff3ab9b5e96d
X-WR-TIMEZONE:America/New_York
BEGIN:VTIMEZONE
TZID:America/New_York
BEGIN:STANDARD
TZNAME:EST
DTSTART:20231105T020000
TZOFFSETFROM:-0400
TZOFFSETTO:-0500
RDATE:20241103T020000
END:STANDARD
BEGIN:DAYLIGHT
TZNAME:EDT
DTSTART:20230312T020000
TZOFFSETFROM:-0500
TZOFFSETTO:-0400
RDATE:20240310T020000
RDATE:20250309T020000
END:DAYLIGHT
END:VTIMEZONE
BEGIN:VEVENT
UID:6f0e1ded-0baf-4633-b2b6-98f1b5dbc1d0
DTSTAMP:20260420T054040Z
DESCRIPTION:Celebrate the holiday season with friends!\n\nCalling teens of 
 all ages! DSNMC is having a holiday party just for you. Join Adrian and Ka
 tie for an in-person teen hangout at Mainstreet\, from 6-8 pm on Thursday\
 , December 21st. DSNMC will provide food\, and two hours of fun. For those
  who would like to participate\, there will be a gift exchange - all gifts
  must be under $15.00.\n\nThis is intended to be a 'drop off' event unless
  you feel that your teen needs your 1:1 supervision.\n\nThis event is free
  and pre-registration is required so that we purchase the proper amount of
  food.
DTSTART;TZID=America/New_York:20231221T180000
DTEND;TZID=America/New_York:20231221T200000
LOCATION:Main Street\, 50 Monroe Place\, Rockville\, MD 20850 US
SUMMARY:In-Person Teen Holiday Party
END:VEVENT
END:VCALENDAR
