BEGIN:VCALENDAR
VERSION:2.0
PRODID:-//dsnmc.org//NONSGML kigkonsult.se iCalcreator 2.30.10//
CALSCALE:GREGORIAN
METHOD:PUBLISH
UID:4eb1e17b-0dcf-4307-ae6b-d35f7146f0b3
X-WR-CALDESC:
X-WR-RELCALID:2b3cf903841586701ae05bc26aed7781
X-WR-TIMEZONE:America/New_York
BEGIN:VTIMEZONE
TZID:America/New_York
BEGIN:STANDARD
TZNAME:EST
DTSTART:20231105T020000
TZOFFSETFROM:-0400
TZOFFSETTO:-0500
RDATE:20241103T020000
END:STANDARD
BEGIN:DAYLIGHT
TZNAME:EDT
DTSTART:20230312T020000
TZOFFSETFROM:-0500
TZOFFSETTO:-0400
RDATE:20240310T020000
RDATE:20250309T020000
END:DAYLIGHT
END:VTIMEZONE
BEGIN:VEVENT
UID:77960238-fdc6-44ac-831f-90af9b893f26
DTSTAMP:20260420T053811Z
DESCRIPTION:
DTSTART;TZID=America/New_York:20231225T000000
DTEND;TZID=America/New_York:20231225T233000
LOCATION:
SUMMARY:Christmas\, DSNMC office closed
END:VEVENT
END:VCALENDAR
