BEGIN:VCALENDAR
VERSION:2.0
PRODID:-//dsnmc.org//NONSGML kigkonsult.se iCalcreator 2.30.10//
CALSCALE:GREGORIAN
METHOD:PUBLISH
UID:d77cb942-fc5d-4ef3-a387-b95bc689bbfa
X-WR-CALDESC:
X-WR-RELCALID:49661c1b068153236c94a5bdca7f647e
X-WR-TIMEZONE:America/New_York
BEGIN:VTIMEZONE
TZID:America/New_York
BEGIN:STANDARD
TZNAME:EST
DTSTART:20231105T020000
TZOFFSETFROM:-0400
TZOFFSETTO:-0500
RDATE:20241103T020000
END:STANDARD
BEGIN:DAYLIGHT
TZNAME:EDT
DTSTART:20230312T020000
TZOFFSETFROM:-0500
TZOFFSETTO:-0400
RDATE:20240310T020000
RDATE:20250309T020000
END:DAYLIGHT
END:VTIMEZONE
BEGIN:VEVENT
UID:bff90cad-e210-4107-887a-c3fff270cd01
DTSTAMP:20260420T053735Z
DESCRIPTION:
DTSTART;TZID=America/New_York:20231226T000000
DTEND;TZID=America/New_York:20231226T233000
LOCATION:
SUMMARY:Kwanzaa begins
END:VEVENT
END:VCALENDAR
