BEGIN:VCALENDAR
VERSION:2.0
PRODID:-//dsnmc.org//NONSGML kigkonsult.se iCalcreator 2.30.10//
CALSCALE:GREGORIAN
METHOD:PUBLISH
UID:2a821558-0a03-48b8-a980-6a146ae1ff26
X-WR-CALDESC:
X-WR-RELCALID:a00c3f44b046a5e5b365302f94d86011
X-WR-TIMEZONE:America/New_York
BEGIN:VTIMEZONE
TZID:America/New_York
BEGIN:STANDARD
TZNAME:EST
DTSTART:20231105T020000
TZOFFSETFROM:-0400
TZOFFSETTO:-0500
RDATE:20241103T020000
END:STANDARD
BEGIN:DAYLIGHT
TZNAME:EDT
DTSTART:20230312T020000
TZOFFSETFROM:-0500
TZOFFSETTO:-0400
RDATE:20240310T020000
RDATE:20250309T020000
END:DAYLIGHT
END:VTIMEZONE
BEGIN:VEVENT
UID:c9766655-7830-4355-bbac-5b803fe9d292
DTSTAMP:20260420T053811Z
DESCRIPTION:
DTSTART;TZID=America/New_York:20231231T200000
DTEND;TZID=America/New_York:20231231T233000
LOCATION:
SUMMARY:New Year's Eve
END:VEVENT
END:VCALENDAR
