BEGIN:VCALENDAR
VERSION:2.0
PRODID:-//dsnmc.org//NONSGML kigkonsult.se iCalcreator 2.30.10//
CALSCALE:GREGORIAN
METHOD:PUBLISH
UID:f6adc8af-1f43-403c-b2ad-529951c5c26d
X-WR-CALDESC:Do you have a child in 4th or 5th grade? Do you wonder what mi
 ddle school will 'look like' for your child with Down syndrome? Do you hav
 e questions about the middle school educational options available? If so\,
  join our informal virtual meeting on January 10th. Experienced parents wi
 ll be available to answer questions and share their child's middle school 
 experiences with you.
X-WR-RELCALID:2210f814552707ace8832b8a22d9a24a
X-WR-TIMEZONE:America/New_York
BEGIN:VTIMEZONE
TZID:America/New_York
BEGIN:STANDARD
TZNAME:EST
DTSTART:20231105T020000
TZOFFSETFROM:-0400
TZOFFSETTO:-0500
RDATE:20241103T020000
END:STANDARD
BEGIN:DAYLIGHT
TZNAME:EDT
DTSTART:20230312T020000
TZOFFSETFROM:-0500
TZOFFSETTO:-0400
RDATE:20240310T020000
RDATE:20250309T020000
END:DAYLIGHT
END:VTIMEZONE
BEGIN:VEVENT
UID:6367fee9-3d0c-4b0a-876a-315b5f01d76e
DTSTAMP:20260420T041350Z
DESCRIPTION:Do you have a child in 4th or 5th grade? Do you wonder what mid
 dle school will 'look like' for your child with Down syndrome? Do you have
  questions about the middle school educational options available? If so\, 
 join our informal virtual meeting on January 10th. Experienced parents wil
 l be available to answer questions and share their child's middle school e
 xperiences with you.
DTSTART;TZID=America/New_York:20240110T193000
DTEND;TZID=America/New_York:20240110T203000
LOCATION:https://dsnmc.networkforgood.com/events/64851-transition-to-middle
 -school
SUMMARY:Transition to Middle School
END:VEVENT
END:VCALENDAR
