BEGIN:VCALENDAR
VERSION:2.0
PRODID:-//dsnmc.org//NONSGML kigkonsult.se iCalcreator 2.30.10//
CALSCALE:GREGORIAN
METHOD:PUBLISH
UID:7228c11f-5cda-4947-b598-2b9baf6bbf22
X-WR-CALDESC:.DSNMC Board and Staff will gather in a relaxed environment to
  socialize and reflect on the organization\,
X-WR-RELCALID:95366fa495d44b1a6968f0d005fe5703
X-WR-TIMEZONE:America/New_York
BEGIN:VTIMEZONE
TZID:America/New_York
BEGIN:STANDARD
TZNAME:EST
DTSTART:20231105T020000
TZOFFSETFROM:-0400
TZOFFSETTO:-0500
RDATE:20241103T020000
END:STANDARD
BEGIN:DAYLIGHT
TZNAME:EDT
DTSTART:20230312T020000
TZOFFSETFROM:-0500
TZOFFSETTO:-0400
RDATE:20240310T020000
RDATE:20250309T020000
END:DAYLIGHT
END:VTIMEZONE
BEGIN:VEVENT
UID:4794c966-3cfc-4c66-8b8a-dbf053d32836
DTSTAMP:20260420T041519Z
DESCRIPTION:.DSNMC Board and Staff will gather in a relaxed environment to 
 socialize and reflect on the organization\,
DTSTART;TZID=America/New_York:20240111T190000
DTEND;TZID=America/New_York:20240111T210000
LOCATION:
SUMMARY:Staff/Board Holiday Party
END:VEVENT
END:VCALENDAR
