BEGIN:VCALENDAR
VERSION:2.0
PRODID:-//dsnmc.org//NONSGML kigkonsult.se iCalcreator 2.30.10//
CALSCALE:GREGORIAN
METHOD:PUBLISH
UID:6666c839-67b0-4fd9-bd99-983c144d10b5
X-WR-CALDESC:
X-WR-RELCALID:f87b92eadc3d2c4cf8b081993a0f3a84
X-WR-TIMEZONE:America/New_York
BEGIN:VTIMEZONE
TZID:America/New_York
BEGIN:STANDARD
TZNAME:EST
DTSTART:20231105T020000
TZOFFSETFROM:-0400
TZOFFSETTO:-0500
RDATE:20241103T020000
END:STANDARD
BEGIN:DAYLIGHT
TZNAME:EDT
DTSTART:20230312T020000
TZOFFSETFROM:-0500
TZOFFSETTO:-0400
RDATE:20240310T020000
RDATE:20250309T020000
END:DAYLIGHT
END:VTIMEZONE
BEGIN:VEVENT
UID:a57d0146-4a2f-4b4d-8968-299f05335260
DTSTAMP:20260420T041523Z
DESCRIPTION:
DTSTART;TZID=America/New_York:20240117T193000
DTEND;TZID=America/New_York:20240117T213000
LOCATION:
SUMMARY:Board Meeting
END:VEVENT
END:VCALENDAR
