BEGIN:VCALENDAR
VERSION:2.0
PRODID:-//dsnmc.org//NONSGML kigkonsult.se iCalcreator 2.30.10//
CALSCALE:GREGORIAN
METHOD:PUBLISH
UID:546f8b33-bd2a-4d55-a33a-e0b0bf71b552
X-WR-CALDESC:Listen to Beatle's Music!\n\nWhat's your favorite Beatle's son
 g? Let it Be? Hey Jude? Here Comes the Sun?\n\nIf you are 18 or older\, jo
 in the DSNMC Self-Advocate Community Network this Friday\, January 19th\, 
 to listen to Beatles music performed by Sarah Bonner and amazing brothers 
 Mark and Paul Zimmerman from 5 - 7:30.\n\nAdmission is free and food can b
 e purchased - you can check out the menu here ahead of time. (Pre-registra
 tion is not required but it will be helpful for us to know how many people
  are planning to attend).\n\nHank Dietle's is located at 11010 Rockville P
 ike just north of the beltway\, across from White Flint. We have limited f
 ree parking available on-site that is shared with our neighbor\, Java Nati
 on. There is additional metered parking (free after 7pm) available just no
 rth of Dietle's (a 5 minute walk) on Security Lane and on the west side of
  Woodglen Dr.\, as well as a 24 hour (self) parking garage located at 5515
  Security Lane\, $4 after 6 pm and all day Saturday and Sunday.
X-WR-RELCALID:f8c3cdcade6b08f795366bb1a934fdf7
X-WR-TIMEZONE:America/New_York
BEGIN:VTIMEZONE
TZID:America/New_York
BEGIN:STANDARD
TZNAME:EST
DTSTART:20231105T020000
TZOFFSETFROM:-0400
TZOFFSETTO:-0500
RDATE:20241103T020000
END:STANDARD
BEGIN:DAYLIGHT
TZNAME:EDT
DTSTART:20230312T020000
TZOFFSETFROM:-0500
TZOFFSETTO:-0400
RDATE:20240310T020000
RDATE:20250309T020000
END:DAYLIGHT
END:VTIMEZONE
BEGIN:VEVENT
UID:486b6bc9-eb90-4888-8ccd-fab9d6205168
DTSTAMP:20260420T041442Z
DESCRIPTION:Listen to Beatle's Music!\n\nWhat's your favorite Beatle's song
 ? Let it Be? Hey Jude? Here Comes the Sun?\n\nIf you are 18 or older\, joi
 n the DSNMC Self-Advocate Community Network this Friday\, January 19th\, t
 o listen to Beatles music performed by Sarah Bonner and amazing brothers M
 ark and Paul Zimmerman from 5 - 7:30.\n\nAdmission is free and food can be
  purchased - you can check out the menu here ahead of time. (Pre-registrat
 ion is not required but it will be helpful for us to know how many people 
 are planning to attend).\n\nHank Dietle's is located at 11010 Rockville Pi
 ke just north of the beltway\, across from White Flint. We have limited fr
 ee parking available on-site that is shared with our neighbor\, Java Natio
 n. There is additional metered parking (free after 7pm) available just nor
 th of Dietle's (a 5 minute walk) on Security Lane and on the west side of 
 Woodglen Dr.\, as well as a 24 hour (self) parking garage located at 5515 
 Security Lane\, $4 after 6 pm and all day Saturday and Sunday.
DTSTART;TZID=America/New_York:20240119T170000
DTEND;TZID=America/New_York:20240119T193000
LOCATION:Hank Dietle's Tavern\, 11010 Rockville Pike\, Rockville\, MD 20852
  US
SUMMARY:Self Advocate Community Network Outing
END:VEVENT
END:VCALENDAR
