BEGIN:VCALENDAR
VERSION:2.0
PRODID:-//dsnmc.org//NONSGML kigkonsult.se iCalcreator 2.30.10//
CALSCALE:GREGORIAN
METHOD:PUBLISH
UID:eb422dac-f652-4ba6-9ed4-1f42bb95318e
X-WR-CALDESC:\nJoin DSNMC families for an hour of fun and ice skating. The 
 studio rink has been reserved solely for DSNMC. Cabin John Rink will provi
 de a limited number of 'trainers' to provide extra support to 'new' skater
 s.\n\nWe suggest that skaters bring helmets to wear when they are on the i
 ce.\n\nPreregistration is required\, and is $5.00 per person. Skate rental
 s are an additional $4.00 per person\, and will be paid at the rink. We en
 courage you to arrive early so that you have time to rent and put on skate
 s prior to 5:00 pm.
X-WR-RELCALID:93d7e30a00a33677e1705f4f94d6c736
X-WR-TIMEZONE:America/New_York
BEGIN:VTIMEZONE
TZID:America/New_York
BEGIN:STANDARD
TZNAME:EST
DTSTART:20231105T020000
TZOFFSETFROM:-0400
TZOFFSETTO:-0500
RDATE:20241103T020000
END:STANDARD
BEGIN:DAYLIGHT
TZNAME:EDT
DTSTART:20230312T020000
TZOFFSETFROM:-0500
TZOFFSETTO:-0400
RDATE:20240310T020000
RDATE:20250309T020000
END:DAYLIGHT
END:VTIMEZONE
BEGIN:VEVENT
UID:74f3d0df-ea76-49bb-a67f-eea5c09a77fd
DTSTAMP:20260420T041615Z
DESCRIPTION:\nJoin DSNMC families for an hour of fun and ice skating. The s
 tudio rink has been reserved solely for DSNMC. Cabin John Rink will provid
 e a limited number of 'trainers' to provide extra support to 'new' skaters
 .\n\nWe suggest that skaters bring helmets to wear when they are on the ic
 e.\n\nPreregistration is required\, and is $5.00 per person. Skate rentals
  are an additional $4.00 per person\, and will be paid at the rink. We enc
 ourage you to arrive early so that you have time to rent and put on skates
  prior to 5:00 pm.
DTSTART;TZID=America/New_York:20240120T170000
DTEND;TZID=America/New_York:20240120T180000
LOCATION:Cabin John Ice Rink\, 10610 Westlake Drive\, Rockville\, MD 20852 
 US
SUMMARY:DSNMC Family Ice Skating Outing
END:VEVENT
END:VCALENDAR
