BEGIN:VCALENDAR
VERSION:2.0
PRODID:-//dsnmc.org//NONSGML kigkonsult.se iCalcreator 2.30.10//
CALSCALE:GREGORIAN
METHOD:PUBLISH
UID:097afdba-1b51-4f30-8ab2-fad772ece019
X-WR-CALDESC:Join your friends in person for a Positively Speaking by Art S
 tream class on January 21st\, from 3:00 - 4:30. While the self-advocates a
 re working on communication skills\, there will be a separate room availab
 le for parents to congregate\, share resources\, and socialize.\n\nThis cl
 ass is limited to 15 participants.\n\n
X-WR-RELCALID:01162808c75ea9cda413f6a4260aac21
X-WR-TIMEZONE:America/New_York
BEGIN:VTIMEZONE
TZID:America/New_York
BEGIN:STANDARD
TZNAME:EST
DTSTART:20231105T020000
TZOFFSETFROM:-0400
TZOFFSETTO:-0500
RDATE:20241103T020000
END:STANDARD
BEGIN:DAYLIGHT
TZNAME:EDT
DTSTART:20230312T020000
TZOFFSETFROM:-0500
TZOFFSETTO:-0400
RDATE:20240310T020000
RDATE:20250309T020000
END:DAYLIGHT
END:VTIMEZONE
BEGIN:VEVENT
UID:1b6eb378-39bc-4b61-8d0f-4fc85f853be4
DTSTAMP:20260420T041351Z
DESCRIPTION:Join your friends in person for a Positively Speaking by Art St
 ream class on January 21st\, from 3:00 - 4:30. While the self-advocates ar
 e working on communication skills\, there will be a separate room availabl
 e for parents to congregate\, share resources\, and socialize.\n\nThis cla
 ss is limited to 15 participants.\n\n
DTSTART;TZID=America/New_York:20240121T150000
DTEND;TZID=America/New_York:20240121T163000
LOCATION:North  Chevy Chase Christian Church\, 8814 Kensington Parkway\, Ch
 evy Chase\, MD 20815 US
SUMMARY:ArtStream Positively Speaking Workshop
END:VEVENT
END:VCALENDAR
