BEGIN:VCALENDAR
VERSION:2.0
PRODID:-//dsnmc.org//NONSGML kigkonsult.se iCalcreator 2.30.10//
CALSCALE:GREGORIAN
METHOD:PUBLISH
UID:3e803920-74e4-4051-84d3-ae810b0abd9f
X-WR-CALDESC:
X-WR-RELCALID:dd32869988b96b5dfc0e7ae4a838d65a
X-WR-TIMEZONE:America/New_York
BEGIN:VTIMEZONE
TZID:America/New_York
BEGIN:STANDARD
TZNAME:EST
DTSTART:20231105T020000
TZOFFSETFROM:-0400
TZOFFSETTO:-0500
RDATE:20241103T020000
END:STANDARD
BEGIN:DAYLIGHT
TZNAME:EDT
DTSTART:20230312T020000
TZOFFSETFROM:-0500
TZOFFSETTO:-0400
RDATE:20240310T020000
RDATE:20250309T020000
END:DAYLIGHT
END:VTIMEZONE
BEGIN:VEVENT
UID:0ca7a83b-1770-42aa-9ebc-61310f9c2008
DTSTAMP:20260420T031758Z
DESCRIPTION:
DTSTART;TZID=America/New_York:20240201T000000
DTEND;TZID=America/New_York:20240201T233000
LOCATION:
SUMMARY:Black History Month Begins
END:VEVENT
END:VCALENDAR
