BEGIN:VCALENDAR
VERSION:2.0
PRODID:-//dsnmc.org//NONSGML kigkonsult.se iCalcreator 2.30.10//
CALSCALE:GREGORIAN
METHOD:PUBLISH
UID:397cc5c5-d1f7-4f7c-b96c-45152f281361
X-WR-CALDESC:DSNMC is thrilled to welcome Dr. Andrew McCormick\, from Pitts
 burg\, for this virtual presentation. This workshop will be a 'how to' on 
 building a transition plan for your teen with Down syndrome. We hope to en
 able you to prepare and advocate for an individualized transition plan tha
 t will create a healthy pathway to adulthood for your adolescent with Down
  syndrome.
X-WR-RELCALID:a99b1cbba92b9590a1d3f46ba8916399
X-WR-TIMEZONE:America/New_York
BEGIN:VTIMEZONE
TZID:America/New_York
BEGIN:STANDARD
TZNAME:EST
DTSTART:20231105T020000
TZOFFSETFROM:-0400
TZOFFSETTO:-0500
RDATE:20241103T020000
END:STANDARD
BEGIN:DAYLIGHT
TZNAME:EDT
DTSTART:20230312T020000
TZOFFSETFROM:-0500
TZOFFSETTO:-0400
RDATE:20240310T020000
RDATE:20250309T020000
END:DAYLIGHT
END:VTIMEZONE
BEGIN:VEVENT
UID:fdaa81a5-3496-4de2-8b46-38ea1b85e253
DTSTAMP:20260420T030123Z
DESCRIPTION:DSNMC is thrilled to welcome Dr. Andrew McCormick\, from Pittsb
 urg\, for this virtual presentation. This workshop will be a 'how to' on b
 uilding a transition plan for your teen with Down syndrome. We hope to ena
 ble you to prepare and advocate for an individualized transition plan that
  will create a healthy pathway to adulthood for your adolescent with Down 
 syndrome.
DTSTART;TZID=America/New_York:20240207T193000
DTEND;TZID=America/New_York:20240207T210000
LOCATION:
SUMMARY:Bridging Transition: Pathway to Adulthood
END:VEVENT
END:VCALENDAR
