BEGIN:VCALENDAR
VERSION:2.0
PRODID:-//dsnmc.org//NONSGML kigkonsult.se iCalcreator 2.30.10//
CALSCALE:GREGORIAN
METHOD:PUBLISH
UID:a36ec4e7-9b99-40c6-9ef3-8659fc49dc65
X-WR-CALDESC:Don't miss the DSNMC Winter Dance!/¡No te pierdas el baile de 
 invierno de DSNMC!\n\nDesplácese hacia abajo para ver la traducción al esp
 añol.\n\nDSNMC is excited to offer our 2024 winter dance. As we are leadin
 g up to World Down Syndrome Day on March 21st\, this year's theme is 'Rock
  Your Socks.' A-Squad Entertainment will provide music and we will have di
 nner\, crafts\, a photo booth\, and lots of fun!!!\n\nWe will raffle off g
 ift baskets and gift certificates at the dance. Raffle tickets can be purc
 hased HERE ahead of time or at the dance. You won't want to miss your chan
 ce to take home a special gift such as gift cards to restaurants\, theater
 s\, fitness classes\, books\, and more!\n\nWe need volunteers to help secu
 re raffle items\, decorate the room\, construct the balloon arch\, purchas
 e water and desserts (you will be reimbursed) set up the raffle area\, and
  serve food.\n\nThis year\, we will once again collect socks for families 
 in need. If you are able\, please bring a pair/package of new socks for ei
 ther an adult or a child\, to be donated to Interfaith Works.\n\nTickets a
 re available for purchase for this event. Please email Joy Stein to reques
 t a scholarship to attend the dance.\n\nDSNMC se complace en ofrecer nuest
 ro baile de invierno de 2024. A medida que nos acercamos al Día Mundial de
 l Síndrome de Down el 21 de marzo\, el tema de este año es 'Rock Your Sock
 s'. A-Squad Entertainment proporcionará música y tendremos cena\, manualid
 ades\, un fotomatón y mesas de recursos.\n\nRifaremos cestas de regalo y c
 ertificados de regalo en el baile. Los boletos para la rifa se pueden comp
 rar con anticipación o en el baile. ¡No querrás perder la oportunidad de l
 levarte a casa un regalo especial\, como tarjetas de regalo para restauran
 tes\, teatros\, clases de fitness\, libros y más!\n\nNecesitamos voluntari
 os para ayudar a asegurar los artículos de la rifa\, decorar la sala\, con
 struir el arco de globos\, comprar agua y postres (se le reembolsará)\, co
 nfigurar el área de la rifa y servir comida. \n\nEste año\, una vez más re
 colectaremos calcetines para familias necesitadas. Si puede\, traiga un pa
 r o paquete de calcetines nuevos para un adulto o un niño\, para donarlos 
 a Interfaith Works.\n\nLos boletos están disponibles para su compra para e
 ste evento. Envíe un correo electrónico a Joy Stein para solicitar una bec
 a para asistir al baile.\n\n
X-WR-RELCALID:b396bd4125e5c326b9384bc57ea44d4f
X-WR-TIMEZONE:America/New_York
BEGIN:VTIMEZONE
TZID:America/New_York
BEGIN:STANDARD
TZNAME:EST
DTSTART:20231105T020000
TZOFFSETFROM:-0400
TZOFFSETTO:-0500
RDATE:20241103T020000
END:STANDARD
BEGIN:DAYLIGHT
TZNAME:EDT
DTSTART:20230312T020000
TZOFFSETFROM:-0500
TZOFFSETTO:-0400
RDATE:20240310T020000
RDATE:20250309T020000
END:DAYLIGHT
END:VTIMEZONE
BEGIN:VEVENT
UID:ba33de96-d80e-42ab-b47a-a184522ef548
DTSTAMP:20260420T030240Z
DESCRIPTION:Don't miss the DSNMC Winter Dance!/¡No te pierdas el baile de i
 nvierno de DSNMC!\n\nDesplácese hacia abajo para ver la traducción al espa
 ñol.\n\nDSNMC is excited to offer our 2024 winter dance. As we are leading
  up to World Down Syndrome Day on March 21st\, this year's theme is 'Rock 
 Your Socks.' A-Squad Entertainment will provide music and we will have din
 ner\, crafts\, a photo booth\, and lots of fun!!!\n\nWe will raffle off gi
 ft baskets and gift certificates at the dance. Raffle tickets can be purch
 ased HERE ahead of time or at the dance. You won't want to miss your chanc
 e to take home a special gift such as gift cards to restaurants\, theaters
 \, fitness classes\, books\, and more!\n\nWe need volunteers to help secur
 e raffle items\, decorate the room\, construct the balloon arch\, purchase
  water and desserts (you will be reimbursed) set up the raffle area\, and 
 serve food.\n\nThis year\, we will once again collect socks for families i
 n need. If you are able\, please bring a pair/package of new socks for eit
 her an adult or a child\, to be donated to Interfaith Works.\n\nTickets ar
 e available for purchase for this event. Please email Joy Stein to request
  a scholarship to attend the dance.\n\nDSNMC se complace en ofrecer nuestr
 o baile de invierno de 2024. A medida que nos acercamos al Día Mundial del
  Síndrome de Down el 21 de marzo\, el tema de este año es 'Rock Your Socks
 '. A-Squad Entertainment proporcionará música y tendremos cena\, manualida
 des\, un fotomatón y mesas de recursos.\n\nRifaremos cestas de regalo y ce
 rtificados de regalo en el baile. Los boletos para la rifa se pueden compr
 ar con anticipación o en el baile. ¡No querrás perder la oportunidad de ll
 evarte a casa un regalo especial\, como tarjetas de regalo para restaurant
 es\, teatros\, clases de fitness\, libros y más!\n\nNecesitamos voluntario
 s para ayudar a asegurar los artículos de la rifa\, decorar la sala\, cons
 truir el arco de globos\, comprar agua y postres (se le reembolsará)\, con
 figurar el área de la rifa y servir comida. \n\nEste año\, una vez más rec
 olectaremos calcetines para familias necesitadas. Si puede\, traiga un par
  o paquete de calcetines nuevos para un adulto o un niño\, para donarlos a
  Interfaith Works.\n\nLos boletos están disponibles para su compra para es
 te evento. Envíe un correo electrónico a Joy Stein para solicitar una beca
  para asistir al baile.\n\n
DTSTART;TZID=America/New_York:20240210T173000
DTEND;TZID=America/New_York:20240210T203000
LOCATION:River Road Unitarian Universalist Congregation\, 6301 River Road\,
  Bethesda\, MD 20817 US
SUMMARY:DSNMC Winter Dance
END:VEVENT
END:VCALENDAR
